BEGIN:VCALENDAR
VERSION:2.0
PRODID:-//Δήμος Πετρούπολης - ECPv6.15.20//NONSGML v1.0//EN
CALSCALE:GREGORIAN
METHOD:PUBLISH
X-ORIGINAL-URL:https://petroupoli.gov.gr
X-WR-CALDESC:Δήμος Πετρούπολης - Εκδηλώσεις
REFRESH-INTERVAL;VALUE=DURATION:PT1H
X-Robots-Tag:noindex
X-PUBLISHED-TTL:PT1H
BEGIN:VTIMEZONE
TZID:Europe/Helsinki
BEGIN:DAYLIGHT
TZOFFSETFROM:+0200
TZOFFSETTO:+0300
TZNAME:EEST
DTSTART:20220327T010000
END:DAYLIGHT
BEGIN:STANDARD
TZOFFSETFROM:+0300
TZOFFSETTO:+0200
TZNAME:EET
DTSTART:20221030T010000
END:STANDARD
BEGIN:DAYLIGHT
TZOFFSETFROM:+0200
TZOFFSETTO:+0300
TZNAME:EEST
DTSTART:20230326T010000
END:DAYLIGHT
BEGIN:STANDARD
TZOFFSETFROM:+0300
TZOFFSETTO:+0200
TZNAME:EET
DTSTART:20231029T010000
END:STANDARD
BEGIN:DAYLIGHT
TZOFFSETFROM:+0200
TZOFFSETTO:+0300
TZNAME:EEST
DTSTART:20240331T010000
END:DAYLIGHT
BEGIN:STANDARD
TZOFFSETFROM:+0300
TZOFFSETTO:+0200
TZNAME:EET
DTSTART:20241027T010000
END:STANDARD
END:VTIMEZONE
BEGIN:VEVENT
DTSTART;TZID=Europe/Helsinki:20230429T200000
DTEND;TZID=Europe/Helsinki:20230429T200000
DTSTAMP:20260422T160418
CREATED:20230427T150642Z
LAST-MODIFIED:20230427T150642Z
UID:64401-1682798400-1682798400@petroupoli.gov.gr
SUMMARY:Το Πανηγύρι του Καραγκιόζη
DESCRIPTION:Δωρεάν Παραστάσεις Θεάτρου Σκιών στις πλατείες και τις παιδικές χαρές του Δήμου Πετρούπολης  \nΣτο πλαίσιο των “Εκδηλώσεων Πολιτισμού Άνοιξη 2023” του Δήμου Πετρούπολης\, οι χάρτινοι ήρωες του θεάτρου σκιών θα ζωντανέψουν στον μπερντέ του καραγκιοζοπαίχτη Σωκράτη Κοτσορέ\, σε πλατείες και παιδικές χαρές της πόλης\, προσφέροντας κέφι\, χαρά και γέλιο σε μικρούς και μεγάλους θεατές. \nΟ παιδαγωγικός και ψυχαγωγικός χαρακτήρας του θεάτρου σκιών\, μαζί με στοιχεία Λαογραφίας και τοπικής ιστορίας που παρουσιάζονται στη σκηνή\, είναι δείγμα και βεβαίωση της τέχνης\, στο πλέον ώριμο επίπεδο κατάλληλο για όλες τις ηλικίες. \nΣυγκεκριμένα\, οι παραστάσεις θα δοθούν τις Παρασκευές και τα Σάββατα 28 και 29 Απριλίου\, και 5\, 6\, 12 και 27 Μαΐου 2023\, μετά τις οκτώ το βράδυ. \nΟι χώροι που θα δοθούν οι παραστάσεις είναι η παιδική χαρά Αγίου Δημητρίου\, η πλατεία Άρη Βελουχιώτη (στις οδούς Βαλτετσίου\, Έλλης και Χρυσοστόμου Σμύρνης)\, στο θεατράκι εντός της πλατείας\, η παιδική χαρά στην οδό Κωνσταντινουπόλεως & Ελαιών\, στο θεατράκι που βρίσκεται μέσα στην παιδική χαρά\, το γήπεδο μπάσκετ δίπλα από την παιδική χαρά της Αγίας Τριάδας\, η πλατεία Θέτιδος (στις οδούς Ξάνθου & Κολοκοτρώνη)\, το θεατράκι που βρίσκεται απέναντι από την πλατεία 8ης Μάρτη (οδός Κερασόβου). \nΤο Σάββατο 29 Απριλίου 2023 στις 20:15 στην πλατεία “Άρη Βελουχιώτη” (επί των οδών Βαλτετσίου\, Έλλης και Χρυσοστόμου Σμύρνης) στο θεατράκι εντός της πλατείας\, όπου θα θα παρουσιαστεί η παράσταση “Το Πανηγύρι του Καραγκιόζη”. Πρόκειται για μια ευφάνταστη  παράσταση\, όπου ο Καραγκιόζης σκαρφίζεται το δικό του πανηγύρι\, δοκιμάζοντας την υπομονή του Πασά… με τη  συγκλονιστική συνέχεια στον μπερντέ…! \nΣας περιμένουμε όλους! \n  \n  \n 
URL:https://petroupoli.gov.gr/event/to-panigiri-tou-karagiozi/
LOCATION:Πλατεία Αρη Βελουχιώτη\, Βαλτετσίου\, Έλλης και Χρυσοστόμου Σμύρνης\, Πετρούπολη\, Ατικής\, 13231\, Ελλάδα
CATEGORIES:Λοιπές Εκδηλώσεις
ATTACH;FMTTYPE=image/jpeg:https://petroupoli.gov.gr/wp-content/uploads/2023/04/2023-TheatroSkion.jpg
END:VEVENT
END:VCALENDAR