BEGIN:VCALENDAR
VERSION:2.0
PRODID:-//Δήμος Πετρούπολης - ECPv6.15.20//NONSGML v1.0//EN
CALSCALE:GREGORIAN
METHOD:PUBLISH
X-WR-CALNAME:Δήμος Πετρούπολης
X-ORIGINAL-URL:https://petroupoli.gov.gr
X-WR-CALDESC:Δήμος Πετρούπολης - Εκδηλώσεις
REFRESH-INTERVAL;VALUE=DURATION:PT1H
X-Robots-Tag:noindex
X-PUBLISHED-TTL:PT1H
BEGIN:VTIMEZONE
TZID:Europe/Helsinki
BEGIN:DAYLIGHT
TZOFFSETFROM:+0200
TZOFFSETTO:+0300
TZNAME:EEST
DTSTART:20220327T010000
END:DAYLIGHT
BEGIN:STANDARD
TZOFFSETFROM:+0300
TZOFFSETTO:+0200
TZNAME:EET
DTSTART:20221030T010000
END:STANDARD
BEGIN:DAYLIGHT
TZOFFSETFROM:+0200
TZOFFSETTO:+0300
TZNAME:EEST
DTSTART:20230326T010000
END:DAYLIGHT
BEGIN:STANDARD
TZOFFSETFROM:+0300
TZOFFSETTO:+0200
TZNAME:EET
DTSTART:20231029T010000
END:STANDARD
BEGIN:DAYLIGHT
TZOFFSETFROM:+0200
TZOFFSETTO:+0300
TZNAME:EEST
DTSTART:20240331T010000
END:DAYLIGHT
BEGIN:STANDARD
TZOFFSETFROM:+0300
TZOFFSETTO:+0200
TZNAME:EET
DTSTART:20241027T010000
END:STANDARD
END:VTIMEZONE
BEGIN:VEVENT
DTSTART;TZID=Europe/Helsinki:20230703T213000
DTEND;TZID=Europe/Helsinki:20230703T213000
DTSTAMP:20260420T002336
CREATED:20230629T192730Z
LAST-MODIFIED:20230629T192730Z
UID:65421-1688419800-1688419800@petroupoli.gov.gr
SUMMARY:Συναυλία: ΑΝΤΩΝΗΣ ΡΕΜΟΣ
DESCRIPTION:Ο Αντώνης Ρέμος\, ο κορυφαίος Έλληνας ερμηνευτής\, θα μας χαρίσει μοναδικές στιγμές και αυτό το καλοκαίρι\, στο πλαίσιο του «Διεθνούς Φεστιβάλ Πέτρας»\, τη Δευτέρα 3 Ιουλίου 2023 και ώρα 21:30.\n\n\nΜια υπέροχη συναυλία\, γεμάτη αγαπημένα τραγούδια\, μοναδικές ερμηνείες και πολύ κέφι\, στην Πετρούπολη!\n\n\nΠλαισιωμένος από μια δυνατή μπάντα με καταξιωμένους σολίστες\, ο Αντώνης Ρέμος\, για ακόμη μια φορά\, θα μας εντυπωσιάσει με τις δυνατές ερμηνείες του και τα τραγούδια του\, παλιά\, αλλά και καινούργια\, που έχουμε όλοι αγαπήσει & τραγουδήσει.\n\n\nΜαζί του ο MENTE FUERTE!\n\n\nΘέατρο Πέτρας: Δευτέρα 3 Ιουλίου 2023\nΏρα έναρξης: 21:30\nΤιμή εισιτηρίου: 20 ευρώ\nΠροπώληση: https://www.ticketservices.gr/…/antonis-remos…/…\n\n\n\n\n\n\n\n2023-AntonisRemos
URL:https://petroupoli.gov.gr/event/2023-pf-antonis-remos/
LOCATION:Θέατρο Πέτρας\, Θέατρο Πέτρας\, Πετρούπολη\, 13231\, Ελλάδα
CATEGORIES:Συναυλίες
GEO:38.0420481;23.6816545
X-APPLE-STRUCTURED-LOCATION;VALUE=URI;X-ADDRESS=Θέατρο Πέτρας Θέατρο Πέτρας Πετρούπολη 13231 Ελλάδα;X-APPLE-RADIUS=500;X-TITLE=Θέατρο Πέτρας:geo:23.6816545,38.0420481
END:VEVENT
BEGIN:VEVENT
DTSTART;TZID=Europe/Helsinki:20230707T213000
DTEND;TZID=Europe/Helsinki:20230707T213000
DTSTAMP:20260420T002336
CREATED:20230707T051556Z
LAST-MODIFIED:20230707T051556Z
UID:65623-1688765400-1688765400@petroupoli.gov.gr
SUMMARY:«Βάκχες» του Ευριπίδη
DESCRIPTION:Ένα πολλά υποσχόμενο θεατρικό γεγονός ταξιδεύει στην Ελλάδα.\nΣτην Πετρούπολη\, την Παρασκευή 7 Ιουλίου 2023 στις 21:30 συνεχίζεται το πρόγραμμα των παραστάσεων των «Βακχών» του Ευριπίδη\, που θα παρουσιαστεί σε επιλεγμένα θέατρα και πόλεις.\nΗ παράσταση προσεγγίζει ερμηνευτικά το έργο και διερευνά την διονυσιακή μανία ή «βακχεία» με βασικά εργαλεία τον λόγο του Ευριπίδη\, τον συνδυασμό της σύγχρονης με την παραδοσιακή μουσική\, και μια κινησιολογία βασισμένη στην τελετουργία των Αναστεναρίων\, που πιθανότατα αποτελεί επιβίωση θρησκευτικών πρακτικών από τη λατρεία του Διονύσου.\nΑντλώντας από την προσωπική τους εμπειρία και συμμετοχή στα δρώμενα των Αναστεναρίων ο μουσικός Γιώργος Μαυρίδης και η σκηνοθέτρια Έλενα Μαυρίδου συνδυάζουν στοιχεία του δρώμενου\, που έχουν συγγένεια με τη Βακχεία\, με σύγχρονη μουσική. Μια δυναμική εκδοχή των Βακχών με τις ρίζες της βαθιά στην παράδοση.Το έργο\nΟ Διόνυσος\, καρπός της ένωσης του Δία με τη Σεμέλη\, κόρη του βασιλιά της Θήβας Κάδμου\, δεν αναγνωρίστηκε ποτέ ως θεός και δεν τιμήθηκε ποτέ στην πατρίδα της μητέρας του.\nΈχοντας ήδη κατακτήσει την Ασία\, ο Διόνυσος καταφθάνει τώρα στη Θήβα\, συνοδευόμενος από έναν όμιλο γυναικών από την Λυδία -των Βακχών- που τον ακολουθούν πιστά.\nΣκοπός του να διαδώσει τη λατρεία του στη Θήβα και σε όλη την Ελλάδα\, αλλά και να δώσει ένα μάθημα στους ασεβείς που τον αρνούνται. Πιο άσπονδος\, ανάμεσά τους\, ο Πενθέας\, εγγονός του Κάδμου και βασιλιάς πλέον της Θήβας.\nΣυντελεστές\nΜετάφραση: Θεόδωρος Στεφανόπουλος\nΣκηνοθεσία: Έλενα Μαυρίδου\nΜουσική: Γιώργος Μαυρίδης\nΣκηνικό – Κοστούμια: Δήμητρα Λιάκουρα\nΦωτισμοί: Περικλής Μαθιέλλης\nΔραματολόγος: Κατερίνα Διακουμοπούλου\nΒοηθός σκηνοθέτη: Πέτρος Αλαφούζος\nΒοηθός σκηνογράφου και ενδυματολόγου: Ευγενία Μπουρντά\nVideo: Θωμάς Παλυβός\nΦωτογραφίες: Ηλίας Ντζόιδος – Ελίνα Γιουνανλή\nΔιεύθυνση παραγωγής: Μαρίνα Γαβριηλίδου\nΕπικοινωνία: Ειρήνη Λαγουρού\nΠαραγωγή 5η Εποχή | Θέατρο του Νέου Κόσμου\nΔιανομή\nΔιόνυσος: Δημήτρης Λάλος\nΚάδμος: Θανάσης Δόβρης\nΠενθέας: Γιώργος Χριστοδούλου\nΤειρεσίας: Βίκυ Βολιώτη\nΔούλος: Στέργιος Κοντακιώτης\nΆγγελος α’: Γιώργος Τριανταφυλλίδης\nΆγγελος β’: Δήμητρα Κούζα\nΑγαύη: Έλενα Μαυρίδου\nΧορός\nΚική Καραΐσκου\, Δήμητρα Κούζα\, Σοφία Κουλέρα\,\nΧριστίνα Μαριανού\, Μαριάμ Ρουχάτζε\nΜουσικοί επί Σκηνής\nΓιώργος Μαυρίδης\, Βασίλης Κόκλας \nΘέατρο Πέτρας: Παρασκευή 7 Ιουλίου 2023\nΏρα έναρξης: 21.30\nΤιμές εισιτηρίων: 20€ κανονικό\n17 € [ ανέργων\, φοιτητικό\, μαθητικό\, άνω των 65\, ΑμεΑ] \nΠροπώληση: https://www.viva.gr/tickets/theater/bakxes/ \n\n\n\n\n\n\n\n\n\n\n\n\n\n\n2023-PF-Bakxes_Evripidi
URL:https://petroupoli.gov.gr/event/pf-bakxes-evripidi/
LOCATION:Θέατρο Πέτρας\, Θέατρο Πέτρας\, Πετρούπολη\, 13231\, Ελλάδα
CATEGORIES:Θέατρο
GEO:38.0420481;23.6816545
X-APPLE-STRUCTURED-LOCATION;VALUE=URI;X-ADDRESS=Θέατρο Πέτρας Θέατρο Πέτρας Πετρούπολη 13231 Ελλάδα;X-APPLE-RADIUS=500;X-TITLE=Θέατρο Πέτρας:geo:23.6816545,38.0420481
END:VEVENT
BEGIN:VEVENT
DTSTART;TZID=Europe/Helsinki:20230709T210000
DTEND;TZID=Europe/Helsinki:20230709T210000
DTSTAMP:20260420T002336
CREATED:20230707T050927Z
LAST-MODIFIED:20230708T184151Z
UID:65621-1688936400-1688936400@petroupoli.gov.gr
SUMMARY:Συναυλία: ΚΩΝΣΤΑΝΤΙΝΟΣ ΑΡΓΥΡΟΣ - Elpida Tour
DESCRIPTION:Ο καλλιτέχνης – φαινόμενο\, με τις διαδοχικές no1 επιτυχίες που «μαγεύουν» τις καρδιές του κόσμου και κατακτούν πρωτιές στα digital streams\, το ραδιοφωνικό airplay και το YouTube\, αλλά και τις αμέτρητες sold out εμφανίσεις\, ταξιδεύει με το «Elpida Tour»\, μία μεγάλη\, εντυπωσιακή και υψηλών προδιαγραφών παραγωγή της Panik Live και έρχεται στην Πετρούπολη την Κυριακή 9 Ιουλίου 2023 στις 21:00. \nΜοναδικός\, ανατρεπτικός και πρωτοπόρος\, ο Κωνσταντίνος Αργυρός\, που πέρυσι πραγματοποίησε την πιο επιτυχημένη περιοδεία\, με αποκορύφωμα τη συναυλία με τον 50Cent στην Αθήνα\, γεμίζει και το φετινό καλοκαίρι με τις μεγάλες προσωπικές επιτυχίες του\, τις δυνατές ερμηνείες του και την απαράμιλλη αισθητική του. \nΜαζί του σε όλες τις συναυλίες θα είναι η Ανδρομάχη. Συμμετέχουν οι Playmen και η Klavdia\, ενώ σε κάποιες συναυλίες θα υπάρχουν και special guests – Rack. \nΘέατρο Πέτρας: Κυριακή 9 Ιουλίου 2023\nΏρα έναρξης: 21:00 \nΤιμές εισιτηρίων & προνόμια:\nArena – Κερκίδα: 20€\nΦοιτητικό: 18€ (Απαραίτητη η επίδειξη φοιτητικού πάσου)\nGolden Standing: 35€ | Πρόσβαση μπροστά στο stage + Ξεχωριστή πύλη εισόδου\nBackstage Experience: 100€ | Προσβαση στο Golden Standing + Fast Line Entrance + VIP Pass + Αναμνηστικά Δώρα \nΠροπώληση: https://www.viva.gr/…/konstantinos-argiros/elpida-tour/ \n2023-PF-KonstantinosArgiros\n  \n  \n  \n  \n 
URL:https://petroupoli.gov.gr/event/2023-pf-konstantinos-argiros/
LOCATION:Θέατρο Πέτρας\, Θέατρο Πέτρας\, Πετρούπολη\, 13231\, Ελλάδα
CATEGORIES:Συναυλίες
GEO:38.0420481;23.6816545
X-APPLE-STRUCTURED-LOCATION;VALUE=URI;X-ADDRESS=Θέατρο Πέτρας Θέατρο Πέτρας Πετρούπολη 13231 Ελλάδα;X-APPLE-RADIUS=500;X-TITLE=Θέατρο Πέτρας:geo:23.6816545,38.0420481
END:VEVENT
BEGIN:VEVENT
DTSTART;TZID=Europe/Helsinki:20230710T213000
DTEND;TZID=Europe/Helsinki:20230710T213000
DTSTAMP:20260420T002336
CREATED:20230707T051958Z
LAST-MODIFIED:20230707T051958Z
UID:65625-1689024600-1689024600@petroupoli.gov.gr
SUMMARY:«Οι Παίχτες»
DESCRIPTION:«Οι Παίχτες» του Νικολάι Βασίλιεβιτς Γκόγκολ (Summer Edition)\, έρχονται στο Θέατρο Πέτρας τη Δευτέρα 10 Ιουλίου 2023 στις 21:30. \nΣ’ ένα απομακρυσμένο πανδοχείο της Ρωσίας\, καταφτάνει ένας δεινός χαρτοπαίχτης\, απατεώνας\, και πλαστογράφος. Στόχος του\, να βρει τα επόμενα θύματά του\, και να τα «γδάρει». Αλλά δε θα είναι τόσο απλή υπόθεση.\nΣτο ίδιο πανδοχείο διαμένουν δύο εξίσου δεινοί κομπιναδόροι\, που γυρεύουν το ίδιο ακριβώς πράγμα με τον πρώτο: ένα λαχταριστό\, αθώο και\, φυσικά\, κεφαλαιούχο θύμα.\nΟι δύο συναντούν τον ένα και σύντομα ενώνουν τις δυνάμεις τους\, οδηγώντας την παράσταση σε ένα πανδαιμόνιο γεμάτο μπλόφες\, ρίσκο\, ανταγωνισμούς\, συμμαχίες\, εκπλήξεις κι ανατροπές\, καθώς στο παιχνίδι μπαίνουν σιγά-σιγά όλοι οι παράξενοι ένοικοι που τριγυρνούν σ’ αυτό το μικρό και ήσυχο πανδοχείο.\nΖωντανή μουσική\, αφηνιασμένοι ρυθμοί και ξέφρενο χιούμορ σε μια παράσταση – οφθαλμαπάτη\, μια φαρσοκωμωδία καταστάσεων\, για την τέχνη της εξαπάτησης: Παράσταση ή πραγματικότητα\, ηθοποιός ή ρόλος\, θύτης ή θύμα\, αλήθεια ή ψέμα\, όλα συγχέονται και τελικά\, το μόνο που μένει είναι το παιχνίδι.\nΗ αδρεναλίνη της κομπίνας\, η μαεστρία και η αρρώστια του τζόγου\, η κάψα να εξαπατήσεις τους πάντες\, αλλά να μην εξαπατηθείς εσύ ο ίδιος και η εμμονή του ανθρώπου για την επικράτηση απέναντι στον οποιονδήποτε «δίπλα»\, κυριεύουν την πένα του Νικολάι Βασίλιεβιτς Γκόγκολ κάπου στο 1836\, για να γράψει μια δαιμονισμένη μυστήρια κωμωδία\, που ακούει στο όνομα «Οι παίχτες». \nΊχαρεφ .“Γιατί\, το να ζήσεις τη ζωή σου σα βλάκας\, δεν είναι τίποτα το ιδιαίτερο\, αλλά να ζήσεις με οξυδέρκεια\, με τέχνη\, να εξαπατήσεις τους πάντες\, αλλά να μην εξαπατηθείς εσύ ο ίδιος – γι’ αυτό\, μάλιστα\, αξίζει να ζεις!” \nΣυντελεστές:\nΣκηνοθεσία – μετάφραση – διασκευή: Γιώργος Κουτλής\nΔραματουργική επεξεργασία: Βασίλης Μαγουλιώτης\nΣκηνικά: Άρτεμις Φλέσσα\nΚοστούμια: Ιωάννα Τσάμη\nΜουσική: Αλέξανδρος Δράκος Κτιστάκης\nΦωτισμοί: Σάκης Μπιρμπίλης\nΧορογραφία: Αλέξανδρος Βαρδαξόγλου\nΒοηθός Σκηνοθέτη: Ιάκωβος Μηνδρινός\nΦωτογραφίες – video: Χρήστος Συμεωνίδης \nΠαίζουν: Γιάννης Νιάρρος\, Βασίλης Μαγουλιώτης\, Ηλίας Μουλάς\, Αλέξανδρος Χρυσανθόπουλος\, Γιώργος Τζαβάρας και Γιώργος Μπουκαούρης\, guest star ο Θανάσης Δήμου \nΘέατρο Πέτρας: Δευτέρα 10 Ιουλίου 2023\nΏρα έναρξης: 21.30\nΤιμές εισιτηρίων: 20€ \nΠροπώληση: https://www.viva.gr/…/oi-paixtes-tou-n-b-gkogkol…/ \n  \n  \n2023-PF-Paixtes\n 
URL:https://petroupoli.gov.gr/event/2023-pf-oi-paixtes/
LOCATION:Θέατρο Πέτρας\, Θέατρο Πέτρας\, Πετρούπολη\, 13231\, Ελλάδα
CATEGORIES:Θέατρο
GEO:38.0420481;23.6816545
X-APPLE-STRUCTURED-LOCATION;VALUE=URI;X-ADDRESS=Θέατρο Πέτρας Θέατρο Πέτρας Πετρούπολη 13231 Ελλάδα;X-APPLE-RADIUS=500;X-TITLE=Θέατρο Πέτρας:geo:23.6816545,38.0420481
END:VEVENT
BEGIN:VEVENT
DTSTART;TZID=Europe/Helsinki:20230711T093000
DTEND;TZID=Europe/Helsinki:20230711T123000
DTSTAMP:20260420T002336
CREATED:20230707T050421Z
LAST-MODIFIED:20230707T050421Z
UID:65619-1689067800-1689078600@petroupoli.gov.gr
SUMMARY:Εκδήλωση - Workshop του έργου «Γραφείο Προώθησης της Απασχόλησης στον Δήμο Πετρούπολης»
DESCRIPTION:Ο Δήμος Πετρούπολης διοργανώνει και σας προσκαλεί στην Εκδήλωση – Workshop που υλοποιείται στο πλαίσιο του έργου με τίτλο: «ΓΡΑΦΕΙΟ ΠΡΟΩΘΗΣΗΣ ΤΗΣ ΑΠΑΣΧΟΛΗΣΗΣ ΣΤΟΝ ΔΗΜΟ ΠΕΤΡΟΥΠΟΛΗΣ» της πράξης «Πιλοτικές Δράσεις για την Προώθηση των Ευπαθών Ομάδων και των Νέων στην Απασχόληση (Διαδημοτικό Κοινωνικό Δίκτυο “ΣΥΜΠΡΑΤΤΩ”)». \nΗ εκδήλωση θα πραγματοποιηθεί την Τρίτη 11 Ιουλίου 2023\, κατά τις ώρες 9:30 – 12:30\, ενώ οι ενδιαφερόμενοι μπορούν να την παρακολουθήσουν:\n• Δια ζώσης στο Πολιτιστικό Κέντρο του Δήμου Πετρούπολης\, (Εθνικής Αντιστάσεως 61)\n• Μέσω zoom στον ακόλουθο σύνδεσμο: https://us02web.zoom.us/j/83138592853… \nΤην εκδήλωση θα χαιρετίσει ο Αντιδήμαρχος Διοίκησης\, Προγραμματισμού & Οικονομικών Υπηρεσιών του Δήμου Πετρούπολης Θοδωρής Λάππας.\nΤο Workshop αφορά σε θέματα Διαμόρφωσης Βιογραφικού Σημειώματος και Τεχνικές Αναζήτησης Εργασίας και σκοπό έχει να ενημερώσει και να υποστηρίξει τόσο τους ωφελούμενους του Προγράμματος\, όσο και συνολικά την Κοινότητα και τα άτομα που βρίσκονται σε αναζήτηση εργασίας. \nΤο έργο είναι συγχρηματοδοτούμενο από το ΕΚΤ\, Ε.Π. «Αττική 2014 – 2020» και από εθνικούς πόρους. Φορέας Χρηματοδότησης είναι η Περιφέρεια Αττικής\, η οποία στηρίζει χρηματοδοτικά τις ΟΧΕ/ΒΑΑ\, με ενδιάμεσο Φορέα Διαχείρισης τον ΑΣΔΑ. Περισσότερες πληροφορίες στον σύνδεσμο: http://efd.asda.gr/oxe_w_a.html \nΗ διαδικασία αιτήσεων για ένταξη ωφελούμενων παραμένει ανοικτή.\nΠερισσότερες πληροφορίες στον σύνδεσμο: https://sympratto.petroupoli.gov.gr/ καθώς και στο Κέντρο Κοινότητας του Δήμου Πετρούπολης (Αθανασίου Διάκου 88Α & Αγίου Δημητρίου). \n  \n  \n2023-GrafeioProothisisApasxolisis012023-GrafeioProothisisApasxolisis02\n  \n  \n 
URL:https://petroupoli.gov.gr/event/%ce%b5%ce%ba%ce%b4%ce%ae%ce%bb%cf%89%cf%83%ce%b7-workshop-%cf%84%ce%bf%cf%85-%ce%ad%cf%81%ce%b3%ce%bf%cf%85-%ce%b3%cf%81%ce%b1%cf%86%ce%b5%ce%af%ce%bf-%cf%80%cf%81%ce%bf%cf%8e%ce%b8%ce%b7/
LOCATION:Πολιτιστικό Κέντρο\, Εθνικής Αντίστασης 61\, Πετρούπολη\, Αττικής\, 13232\, Ελλάδα
CATEGORIES:Λοιπές Εκδηλώσεις
GEO:38.0413056;23.6855631
X-APPLE-STRUCTURED-LOCATION;VALUE=URI;X-ADDRESS=Πολιτιστικό Κέντρο Εθνικής Αντίστασης 61 Πετρούπολη Αττικής 13232 Ελλάδα;X-APPLE-RADIUS=500;X-TITLE=Εθνικής Αντίστασης 61:geo:23.6855631,38.0413056
END:VEVENT
BEGIN:VEVENT
DTSTART;TZID=Europe/Helsinki:20230711T213000
DTEND;TZID=Europe/Helsinki:20230711T213000
DTSTAMP:20260420T002336
CREATED:20230707T165332Z
LAST-MODIFIED:20230707T165332Z
UID:65635-1689111000-1689111000@petroupoli.gov.gr
SUMMARY:«Μήδεια» του Ευριπίδη
DESCRIPTION:Η Μήδεια αναδείχτηκε από τον Ευριπίδη σε διαχρονικό σύμβολο της αιώνιας μάχης ανάμεσα στα δύο φύλα. Μια τραγωδία πάθους\, ένα εναλλασσόμενο παιχνίδι ισορροπίας μεταξύ ζωής και θανάτου\, με άξονα και επίκεντρο τον έρωτα. Μια τραγική ιστορία που έμεινε διαχρονική στους αιώνες.\n\n\nΗ Μήδεια έρχεται στο Θέατρο Πέτρας την Τρίτη 11 Ιουλίου 2023 στις 21.30.\n\n\nΟ Ευριπίδης\, μάρτυρας της προσφυγιάς\, της απώλειας και του πολέμου και διαχρονικός προφήτης της αλήθειας\, γράφει για τις καταστρεπτικές συνέπειες του ανεξέλεγκτου πάθους στον άνθρωπο\, της περιθωριοποίησης και του αποκλεισμού.\nΗ αρχετυπική πάλη μεταξύ αρσενικού και θηλυκού και η σύγκρουση ανάμεσα στην αρχέγονη πίστη των όρκων και τον στείρο ορθολογισμό\, είναι για τον τραγικό ποιητή η εικόνα μιας κοινωνίας με συγκεκριμένο υλιστικό προσανατολισμό. Μια αναγωγή στην Αθήνα της εποχής και στην επεκτατική πολιτική παντός καιρού\, που σκοτώνει τα παιδιά της στο βωμό της δύναμης\, της εξουσίας και του κέρδους.\n\n\nΥπόθεση:\nΟ Ιάσονας αποφασίζει να εγκαταλείψει τη Μήδεια\, προδίδοντας τους όρκους τους\, για να παντρευτεί την κόρη του βασιλιά Κρέοντα\, διεκδικώντας μερίδιο στην εξουσία. Ο Κρέοντας αποφασίζει να εξορίσει τη Μήδεια και τα παιδιά από την πόλη\, καταδικάζοντάς τα σε αργό θάνατο\, με τη συναίνεση του πατέρα τους.\nΜετά την προδοσία του Ιάσονα και την καταπάτηση των όρκων\, η Μήδεια\, επιθυμεί να εκδικηθεί τον Ιάσονα. Με την παιδοκτονία που διαπράττει\, του στερεί το δικαίωμα να έχει απογόνους\, αφού σκοτώνει τους γιους που του έχει χαρίσει\, αλλά και τη μητέρα των μελλοντικών παιδιών του.\nΓνωρίζει πως χωρίς σύζυγο και πατέρα δεν υπάρχει πια μέλλον γι’ αυτήν και τα παιδιά της\, και πως οι γιοι της είναι καταδικασμένοι σ’ έναν αργό θάνατο.\nΈχοντας συμπεριλάβει τα παιδιά στα σχέδιά της για εκδίκηση\, αφού αυτά πρόσφεραν τα θανάσιμα δώρα στη νέα βασιλική σύζυγο του πατέρα τους\, γνωρίζει πως με τον θάνατο του βασιλιά και της κόρης του οι γιοι της κινδυνεύουν από την εκδικητική οργή των Κορινθίων.\nΤο αίμα πρέπει να πληρωθεί με αίμα.\n\nΗ Μήδεια\, για να εξιλεωθεί για τους φόνους που έχει διαπράξει για χάρη του Ιάσονα\, γνωρίζει πως θα πρέπει να κάνει κι αυτή μια επώδυνη θυσία\, προκειμένου να επανέλθει η αρμονία στο σύμπαν. Με απόλυτη επίγνωση… \n\n\n\nΣκηνοθετικό σημείωμα:\nΗ ισορροπία του σύμπαντος έχει διαταραχθεί. Το αίμα ξεπληρώνεται με αίμα. Άλλη μια επώδυνη θυσία πρέπει να γίνει για να καθαρίσει την προηγούμενη και να επαναφέρει την τάξη.\nΗ Μήδεια γνωρίζει. Έχει την κατάρα της Σοφίας\, έχοντας ξεπλύνει με το αίμα του Προμηθέα απ’ τα βουνά του Καυκάσου τα βότανα των ιερών τελετών της.\nΓυναίκα- τρόπαιο\, όχημα εξουσίας για έναν άντρα που τη χρησιμοποιεί μόνο για να πετύχει τον σκοπό του.\nΗ Μήδεια είναι η ζωή. Όταν ερωτεύεται\, μπορεί να γίνει καταστροφική. Όταν προδίδεται\, μπορεί να φέρει τον θάνατο.\nΤα αρχέτυπα παραμένουν αρχέτυπα\, σ’ έναν μύθο που εκσυγχρονίζεται\, με σημείο Μηδέν το Σήμερα• σε μια ατέρμονη\, καταραμένη πάλη επιβίωσης του ανθρώπινου γένους\, όπως αυτήν που σηκώνει στους ώμους του ο Σίσυφος\, ως αποτέλεσμα της τιμωρίας του από τους Θεούς.\n\n\nΛένα Μαλένη\n\n\n\nΣυντελεστές:\n\n\nΜετάφραση: Μίνως Βολανάκης\nΣκηνοθεσία: Λένα Μαλένη\nΜουσική: Θέμης Καραμουρατίδης\nΣκηνικά: Γιώργος Γαβαλάς\nΚοστούμια: Kλερ Μπρέισγουελ\nΚίνηση: Φρόσω Κορρού\nΣχεδιασμός Φωτισμού: Νίκος Σωτηρόπουλος\nΜουσική Διδασκαλία: Χρήστος Θεοδώρου\nΒοηθός Σκηνοθέτη: Σταυριάνα Καδή\n\n\nΔιανομή:\n\n\nΜΗΔΕΙΑ: Μαρία Κίτσου\nΙΑΣΟΝΑΣ: Φάνης Μουρατίδης\nΤΡΟΦΟΣ: Ελένη Καστάνη\nΠΑΙΔΑΓΩΓΟΣ: Θοδωρής Κατσαφάδος\nΑΙΓΕΑΣ: Βαγγέλης Αλεξανδρής\nΚΡΕΟΝΤΑΣ: Λαέρτης Μαλκότσης\nΑΓΓΕΛΟΣ: Αλμπέρτο Φάις\n\n\nΧΟΡΟΣ:\nΑλίκη Αβδελοπούλου\nΣτέλλα Ράπτη\nΈλενα Χατζηαυξέντη\nΜυρτώ Παππά Αργυροπούλου\nΓωγώ Παπαϊωάννου\nΜυρτώ Καστρινάκη Μεϊτάνη\n\n\n\nΘέατρο Πέτρας: Τρίτη 11 Ιουλίου 2023\nΏρα έναρξης: 21.30\nΤιμές εισιτηρίων: 20€ κανονικό\n18€ φοιτητικό\, ανέργων\, παιδικό\, ΑΜΕΑ\, πολυτέκνων\n\n\nΠροπώληση: https://www.viva.gr/tickets/theater/mideia-tou-eyripidi/\n\n\n\n\n\n  \n  \n2023-PF-Midia_Evripidi\n  \n  \n  \n 
URL:https://petroupoli.gov.gr/event/2023-pf-mideia-evripidi/
LOCATION:Θέατρο Πέτρας\, Θέατρο Πέτρας\, Πετρούπολη\, 13231\, Ελλάδα
CATEGORIES:Θέατρο
GEO:38.0420481;23.6816545
X-APPLE-STRUCTURED-LOCATION;VALUE=URI;X-ADDRESS=Θέατρο Πέτρας Θέατρο Πέτρας Πετρούπολη 13231 Ελλάδα;X-APPLE-RADIUS=500;X-TITLE=Θέατρο Πέτρας:geo:23.6816545,38.0420481
END:VEVENT
BEGIN:VEVENT
DTSTART;TZID=Europe/Helsinki:20230712T213000
DTEND;TZID=Europe/Helsinki:20230712T213000
DTSTAMP:20260420T002336
CREATED:20230708T183949Z
LAST-MODIFIED:20230708T184235Z
UID:65646-1689197400-1689197400@petroupoli.gov.gr
SUMMARY:Άννα Βίσση 50 Years #Annaversary
DESCRIPTION:Η μοναδική Άννα Βίσση\, φέτος συμπληρώνει 50 χρόνια απόλυτης κυριαρχίας στη μουσική σκηνή και τα γιορτάζει με δύο επετειακές μεγαλειώδεις συναυλίες. \nΗ υπερταλαντούχα καλλιτέχνης – φαινόμενο\, που έσπασε το φράγμα του χρόνου και άλλαξε τα δεδομένα στον χώρο της μουσικής\, χαρίζοντας στο κοινό αξέχαστες μελωδίες και στιγμές\, διατηρεί το πάθος της\, ενώ παραμένει πρωτοπόρος και σύγχρονη\, αφυπνίζοντας όλες τις γενιές που μεγάλωσαν και συνεχίζουν να μεγαλώνουν με τα τραγούδια της. \nSpecial guest: Νίκος Καρβέλας \nΘέατρο Πέτρας: Τετάρτη 12 Ιουλίου 2023\nΏρα έναρξης: 21:30\nΤιμές εισιτηρίων: 20€\nΠροπώληση: https://www.ticketservices.gr/…/anna-vissi-summer-2023/… \n2023-PF-AnnaVisi
URL:https://petroupoli.gov.gr/event/2023-pf-anna-visi/
LOCATION:Θέατρο Πέτρας\, Θέατρο Πέτρας\, Πετρούπολη\, 13231\, Ελλάδα
CATEGORIES:Συναυλίες
GEO:38.0420481;23.6816545
X-APPLE-STRUCTURED-LOCATION;VALUE=URI;X-ADDRESS=Θέατρο Πέτρας Θέατρο Πέτρας Πετρούπολη 13231 Ελλάδα;X-APPLE-RADIUS=500;X-TITLE=Θέατρο Πέτρας:geo:23.6816545,38.0420481
END:VEVENT
END:VCALENDAR