BEGIN:VCALENDAR
VERSION:2.0
PRODID:-//Δήμος Πετρούπολης - ECPv6.15.20//NONSGML v1.0//EN
CALSCALE:GREGORIAN
METHOD:PUBLISH
X-WR-CALNAME:Δήμος Πετρούπολης
X-ORIGINAL-URL:https://petroupoli.gov.gr
X-WR-CALDESC:Δήμος Πετρούπολης - Εκδηλώσεις
REFRESH-INTERVAL;VALUE=DURATION:PT1H
X-Robots-Tag:noindex
X-PUBLISHED-TTL:PT1H
BEGIN:VTIMEZONE
TZID:Europe/Helsinki
BEGIN:DAYLIGHT
TZOFFSETFROM:+0200
TZOFFSETTO:+0300
TZNAME:EEST
DTSTART:20150329T010000
END:DAYLIGHT
BEGIN:STANDARD
TZOFFSETFROM:+0300
TZOFFSETTO:+0200
TZNAME:EET
DTSTART:20151025T010000
END:STANDARD
BEGIN:DAYLIGHT
TZOFFSETFROM:+0200
TZOFFSETTO:+0300
TZNAME:EEST
DTSTART:20160327T010000
END:DAYLIGHT
BEGIN:STANDARD
TZOFFSETFROM:+0300
TZOFFSETTO:+0200
TZNAME:EET
DTSTART:20161030T010000
END:STANDARD
BEGIN:DAYLIGHT
TZOFFSETFROM:+0200
TZOFFSETTO:+0300
TZNAME:EEST
DTSTART:20170326T010000
END:DAYLIGHT
BEGIN:STANDARD
TZOFFSETFROM:+0300
TZOFFSETTO:+0200
TZNAME:EET
DTSTART:20171029T010000
END:STANDARD
END:VTIMEZONE
BEGIN:VEVENT
DTSTART;TZID=Europe/Helsinki:20160220T210000
DTEND;TZID=Europe/Helsinki:20160220T210000
DTSTAMP:20260426T072020
CREATED:20180317T212614Z
LAST-MODIFIED:20210117T003505Z
UID:31599-1456002000-1456002000@petroupoli.gov.gr
SUMMARY:ΑΦΙΕΡΩΜΑ ΣΤΟΝ ΡΩΣΙΚΟ ΚΙΝΗΜΑΤΟΓΡΑΦΟ "ΑΛΕΞΑΝΔΡΑ"
DESCRIPTION:Alexandra. Ρωσία-Γαλία
URL:https://petroupoli.gov.gr/event/%ce%b1%cf%86%ce%b9%ce%b5%cf%81%cf%89%ce%bc%ce%b1-%cf%83%cf%84%ce%bf%ce%bd-%cf%81%cf%89%cf%83%ce%b9%ce%ba%ce%bf-%ce%ba%ce%b9%ce%bd%ce%b7%ce%bc%ce%b1%cf%84%ce%bf%ce%b3%cf%81%ce%b1%cf%86%ce%bf-%ce%b1-2-2/
CATEGORIES:Εκδηλώσεις
ATTACH;FMTTYPE=image/jpeg:https://petroupoli.gov.gr/wp-content/uploads/2018/04/featured-4.jpg
END:VEVENT
BEGIN:VEVENT
DTSTART;TZID=Europe/Helsinki:20160220T190000
DTEND;TZID=Europe/Helsinki:20160220T190000
DTSTAMP:20260426T072020
CREATED:20180317T232611Z
LAST-MODIFIED:20180317T232611Z
UID:47683-1455994800-1455994800@petroupoli.gov.gr
SUMMARY:ΑΦΙΕΡΩΜΑ ΣΤΟ ΡΩΣΙΚΟ ΚΙΝΗΜΑΤΟΓΡΑΦΟ "ΤΑ ΠΑΙΔΙΚΑ ΧΡΟΝΙΑ ΤΟΥ ΙΒΑΝ"
DESCRIPTION:Ivan’s ChildhoodΣκηνοθεσία Αντρέι Ταρκόφσκι.Βρισκόμαστε στο Ανατολικό Μέτωπο του δεύτερου παγκοσμίου. Ο Κόκκινος Στρατός αμύνεται εναντίον της Γερμανικής Βέρμαχτ. Πρωταγωνιστής είναι ο Ιβάν
URL:https://petroupoli.gov.gr/event/%ce%b1%cf%86%ce%b9%ce%b5%cf%81%cf%89%ce%bc%ce%b1-%cf%83%cf%84%ce%bf-%cf%81%cf%89%cf%83%ce%b9%ce%ba%ce%bf-%ce%ba%ce%b9%ce%bd%ce%b7%ce%bc%ce%b1%cf%84%ce%bf%ce%b3%cf%81%ce%b1%cf%86%ce%bf-%cf%84%ce%b1-2-3/
CATEGORIES:Εκδηλώσεις,Κινηματογράφος
END:VEVENT
BEGIN:VEVENT
DTSTART;TZID=Europe/Helsinki:20160220T190000
DTEND;TZID=Europe/Helsinki:20160220T190000
DTSTAMP:20260426T072020
CREATED:20180317T232611Z
LAST-MODIFIED:20180317T232611Z
UID:47698-1455994800-1455994800@petroupoli.gov.gr
SUMMARY:ΑΦΙΕΡΩΜΑ ΣΤΟ ΡΩΣΙΚΟ ΚΙΝΗΜΑΤΟΓΡΑΦΟ "ΤΑ ΠΑΙΔΙΚΑ ΧΡΟΝΙΑ ΤΟΥ ΙΒΑΝ"
DESCRIPTION:Ivan’s ChildhoodΣκηνοθεσία Αντρέι Ταρκόφσκι.Βρισκόμαστε στο Ανατολικό Μέτωπο του δεύτερου παγκοσμίου. Ο Κόκκινος Στρατός αμύνεται εναντίον της Γερμανικής Βέρμαχτ. Πρωταγωνιστής είναι ο Ιβάν
URL:https://petroupoli.gov.gr/event/%ce%b1%cf%86%ce%b9%ce%b5%cf%81%cf%89%ce%bc%ce%b1-%cf%83%cf%84%ce%bf-%cf%81%cf%89%cf%83%ce%b9%ce%ba%ce%bf-%ce%ba%ce%b9%ce%bd%ce%b7%ce%bc%ce%b1%cf%84%ce%bf%ce%b3%cf%81%ce%b1%cf%86%ce%bf-%cf%84%ce%b1-2-4/
ATTACH;FMTTYPE=image/jpeg:https://petroupoli.gov.gr/wp-content/uploads/2018/04/featured-4-1.jpg
END:VEVENT
BEGIN:VEVENT
DTSTART;TZID=Europe/Helsinki:20160220T190000
DTEND;TZID=Europe/Helsinki:20160220T190000
DTSTAMP:20260426T072020
CREATED:20180317T212611Z
LAST-MODIFIED:20210117T003505Z
UID:31600-1455994800-1455994800@petroupoli.gov.gr
SUMMARY:ΑΦΙΕΡΩΜΑ ΣΤΟ ΡΩΣΙΚΟ ΚΙΝΗΜΑΤΟΓΡΑΦΟ "ΤΑ ΠΑΙΔΙΚΑ ΧΡΟΝΙΑ ΤΟΥ ΙΒΑΝ"
DESCRIPTION:Ivan’s ChildhoodΣκηνοθεσία Αντρέι Ταρκόφσκι.Βρισκόμαστε στο Ανατολικό Μέτωπο του δεύτερου παγκοσμίου. Ο Κόκκινος Στρατός αμύνεται εναντίον της Γερμανικής Βέρμαχτ. Πρωταγωνιστής είναι ο Ιβάν
URL:https://petroupoli.gov.gr/event/%ce%b1%cf%86%ce%b9%ce%b5%cf%81%cf%89%ce%bc%ce%b1-%cf%83%cf%84%ce%bf-%cf%81%cf%89%cf%83%ce%b9%ce%ba%ce%bf-%ce%ba%ce%b9%ce%bd%ce%b7%ce%bc%ce%b1%cf%84%ce%bf%ce%b3%cf%81%ce%b1%cf%86%ce%bf-%cf%84%ce%b1-2-2/
CATEGORIES:Εκδηλώσεις
ATTACH;FMTTYPE=image/jpeg:https://petroupoli.gov.gr/wp-content/uploads/2018/04/featured-4.jpg
END:VEVENT
BEGIN:VEVENT
DTSTART;TZID=Europe/Helsinki:20160213T170000
DTEND;TZID=Europe/Helsinki:20160214T190000
DTSTAMP:20260426T072020
CREATED:20180317T232611Z
LAST-MODIFIED:20180317T232611Z
UID:47682-1455382800-1455476400@petroupoli.gov.gr
SUMMARY:Τα minions.
DESCRIPTION:Κινούμενα Σχέδια
URL:https://petroupoli.gov.gr/event/%cf%84%ce%b1-minions-2-3/
CATEGORIES:Εκδηλώσεις,Κινηματογράφος
END:VEVENT
BEGIN:VEVENT
DTSTART;TZID=Europe/Helsinki:20160213T170000
DTEND;TZID=Europe/Helsinki:20160214T190000
DTSTAMP:20260426T072020
CREATED:20180317T232611Z
LAST-MODIFIED:20180317T232611Z
UID:47699-1455382800-1455476400@petroupoli.gov.gr
SUMMARY:Τα minions.
DESCRIPTION:Κινούμενα Σχέδια
URL:https://petroupoli.gov.gr/event/%cf%84%ce%b1-minions-2-4/
ATTACH;FMTTYPE=image/jpeg:https://petroupoli.gov.gr/wp-content/uploads/2018/04/featured-4-1.jpg
END:VEVENT
BEGIN:VEVENT
DTSTART;TZID=Europe/Helsinki:20160213T170000
DTEND;TZID=Europe/Helsinki:20160214T190000
DTSTAMP:20260426T072020
CREATED:20180317T212611Z
LAST-MODIFIED:20210117T002100Z
UID:31602-1455382800-1455476400@petroupoli.gov.gr
SUMMARY:Τα minions.
DESCRIPTION:Κινούμενα Σχέδια
URL:https://petroupoli.gov.gr/event/%cf%84%ce%b1-minions-2-2/
CATEGORIES:Εκδηλώσεις
ATTACH;FMTTYPE=image/jpeg:https://petroupoli.gov.gr/wp-content/uploads/2018/04/featured-4.jpg
END:VEVENT
BEGIN:VEVENT
DTSTART;TZID=Europe/Helsinki:20160210T200000
DTEND;TZID=Europe/Helsinki:20160210T200000
DTSTAMP:20260426T072020
CREATED:20180317T232610Z
LAST-MODIFIED:20180317T232610Z
UID:47671-1455134400-1455134400@petroupoli.gov.gr
SUMMARY:Εδώ χωρίς εμένα.
DESCRIPTION:Here Without Me.Ιρανική
URL:https://petroupoli.gov.gr/event/%ce%b5%ce%b4%cf%8e-%cf%87%cf%89%cf%81%ce%af%cf%82-%ce%b5%ce%bc%ce%ad%ce%bd%ce%b1-2-3/
CATEGORIES:Εκδηλώσεις,Κινηματογράφος
END:VEVENT
BEGIN:VEVENT
DTSTART;TZID=Europe/Helsinki:20160210T200000
DTEND;TZID=Europe/Helsinki:20160210T200000
DTSTAMP:20260426T072020
CREATED:20180317T232610Z
LAST-MODIFIED:20180317T232610Z
UID:47672-1455134400-1455134400@petroupoli.gov.gr
SUMMARY:Εδώ χωρίς εμένα.
DESCRIPTION:Here Without Me.Ιρανική
URL:https://petroupoli.gov.gr/event/%ce%b5%ce%b4%cf%8e-%cf%87%cf%89%cf%81%ce%af%cf%82-%ce%b5%ce%bc%ce%ad%ce%bd%ce%b1-2-4/
ATTACH;FMTTYPE=image/jpeg:https://petroupoli.gov.gr/wp-content/uploads/2018/04/featured-4-1.jpg
END:VEVENT
BEGIN:VEVENT
DTSTART;TZID=Europe/Helsinki:20160210T200000
DTEND;TZID=Europe/Helsinki:20160210T200000
DTSTAMP:20260426T072020
CREATED:20180317T212610Z
LAST-MODIFIED:20210117T002100Z
UID:31603-1455134400-1455134400@petroupoli.gov.gr
SUMMARY:Εδώ χωρίς εμένα.
DESCRIPTION:Here Without Me.Ιρανική
URL:https://petroupoli.gov.gr/event/%ce%b5%ce%b4%cf%8e-%cf%87%cf%89%cf%81%ce%af%cf%82-%ce%b5%ce%bc%ce%ad%ce%bd%ce%b1-2-2/
CATEGORIES:Εκδηλώσεις
ATTACH;FMTTYPE=image/jpeg:https://petroupoli.gov.gr/wp-content/uploads/2018/04/featured-4.jpg
END:VEVENT
BEGIN:VEVENT
DTSTART;TZID=Europe/Helsinki:20160210T180000
DTEND;TZID=Europe/Helsinki:20160212T200000
DTSTAMP:20260426T072020
CREATED:20180317T232503Z
LAST-MODIFIED:20180317T232503Z
UID:47545-1455127200-1455307200@petroupoli.gov.gr
SUMMARY:ΕΚΘΕΣΗ ΖΩΓΡΑΦΙΚΗΣ ΠΕΤΡΟΥΛΑΣ ΜΑΥΡΟΥΛΕΑ
DESCRIPTION:Το τμήμα “Εικαστικών ενηλίκων” του Δήμου Πετρούπολης παρουσιάζει έκθεση ζωγραφικής στη μνήμη της Πετρούλας Μαυρουλέα  με τίτλο ” Ζωγραφική με πάθος κι όνειρο”
URL:https://petroupoli.gov.gr/event/%ce%b5%ce%ba%ce%b8%ce%b5%cf%83%ce%b7-%ce%b6%cf%89%ce%b3%cf%81%ce%b1%cf%86%ce%b9%ce%ba%ce%b7%cf%83-%cf%80%ce%b5%cf%84%cf%81%ce%bf%cf%85%ce%bb%ce%b1%cf%83-%ce%bc%ce%b1%cf%85%cf%81%ce%bf%cf%85%ce%bb-4-2/
CATEGORIES:Εκδηλώσεις,Λοιπές Εκδηλώσεις
END:VEVENT
BEGIN:VEVENT
DTSTART;TZID=Europe/Helsinki:20160210T180000
DTEND;TZID=Europe/Helsinki:20160212T200000
DTSTAMP:20260426T072020
CREATED:20180317T232503Z
LAST-MODIFIED:20180317T232503Z
UID:47558-1455127200-1455307200@petroupoli.gov.gr
SUMMARY:ΕΚΘΕΣΗ ΖΩΓΡΑΦΙΚΗΣ ΠΕΤΡΟΥΛΑΣ ΜΑΥΡΟΥΛΕΑ
DESCRIPTION:Το τμήμα “Εικαστικών ενηλίκων” του Δήμου Πετρούπολης παρουσιάζει έκθεση ζωγραφικής στη μνήμη της Πετρούλας Μαυρουλέα  με τίτλο ” Ζωγραφική με πάθος κι όνειρο”
URL:https://petroupoli.gov.gr/event/%ce%b5%ce%ba%ce%b8%ce%b5%cf%83%ce%b7-%ce%b6%cf%89%ce%b3%cf%81%ce%b1%cf%86%ce%b9%ce%ba%ce%b7%cf%83-%cf%80%ce%b5%cf%84%cf%81%ce%bf%cf%85%ce%bb%ce%b1%cf%83-%ce%bc%ce%b1%cf%85%cf%81%ce%bf%cf%85%ce%bb-4-3/
ATTACH;FMTTYPE=image/jpeg:https://petroupoli.gov.gr/wp-content/uploads/2018/04/featured-4-1.jpg
END:VEVENT
BEGIN:VEVENT
DTSTART;TZID=Europe/Helsinki:20160210T180000
DTEND;TZID=Europe/Helsinki:20160212T200000
DTSTAMP:20260426T072020
CREATED:20180317T212503Z
LAST-MODIFIED:20210117T002100Z
UID:31388-1455127200-1455307200@petroupoli.gov.gr
SUMMARY:ΕΚΘΕΣΗ ΖΩΓΡΑΦΙΚΗΣ ΠΕΤΡΟΥΛΑΣ ΜΑΥΡΟΥΛΕΑ
DESCRIPTION:Το τμήμα “Εικαστικών ενηλίκων” του Δήμου Πετρούπολης παρουσιάζει έκθεση ζωγραφικής στη μνήμη της Πετρούλας Μαυρουλέα  με τίτλο ” Ζωγραφική με πάθος κι όνειρο”
URL:https://petroupoli.gov.gr/event/%ce%b5%ce%ba%ce%b8%ce%b5%cf%83%ce%b7-%ce%b6%cf%89%ce%b3%cf%81%ce%b1%cf%86%ce%b9%ce%ba%ce%b7%cf%83-%cf%80%ce%b5%cf%84%cf%81%ce%bf%cf%85%ce%bb%ce%b1%cf%83-%ce%bc%ce%b1%cf%85%cf%81%ce%bf%cf%85%ce%bb-4/
CATEGORIES:Εκδηλώσεις
ATTACH;FMTTYPE=image/jpeg:https://petroupoli.gov.gr/wp-content/uploads/2018/04/featured-4.jpg
END:VEVENT
BEGIN:VEVENT
DTSTART;TZID=Europe/Helsinki:20160206T190000
DTEND;TZID=Europe/Helsinki:20160207T000000
DTSTAMP:20260426T072020
CREATED:20180317T232610Z
LAST-MODIFIED:20180317T232610Z
UID:47670-1454785200-1454803200@petroupoli.gov.gr
SUMMARY:Ο χορός της πραγματικότητας
DESCRIPTION:La Danza de la Realidad. Σινεφίλ βιογραφική
URL:https://petroupoli.gov.gr/event/%ce%bf-%cf%87%ce%bf%cf%81%cf%8c%cf%82-%cf%84%ce%b7%cf%82-%cf%80%cf%81%ce%b1%ce%b3%ce%bc%ce%b1%cf%84%ce%b9%ce%ba%cf%8c%cf%84%ce%b7%cf%84%ce%b1%cf%82-2-3/
CATEGORIES:Εκδηλώσεις,Κινηματογράφος
END:VEVENT
BEGIN:VEVENT
DTSTART;TZID=Europe/Helsinki:20160206T190000
DTEND;TZID=Europe/Helsinki:20160207T000000
DTSTAMP:20260426T072020
CREATED:20180317T232610Z
LAST-MODIFIED:20180317T232610Z
UID:47700-1454785200-1454803200@petroupoli.gov.gr
SUMMARY:Ο χορός της πραγματικότητας
DESCRIPTION:La Danza de la Realidad. Σινεφίλ βιογραφική
URL:https://petroupoli.gov.gr/event/%ce%bf-%cf%87%ce%bf%cf%81%cf%8c%cf%82-%cf%84%ce%b7%cf%82-%cf%80%cf%81%ce%b1%ce%b3%ce%bc%ce%b1%cf%84%ce%b9%ce%ba%cf%8c%cf%84%ce%b7%cf%84%ce%b1%cf%82-2-4/
ATTACH;FMTTYPE=image/jpeg:https://petroupoli.gov.gr/wp-content/uploads/2018/04/featured-4-1.jpg
END:VEVENT
BEGIN:VEVENT
DTSTART;TZID=Europe/Helsinki:20160206T190000
DTEND;TZID=Europe/Helsinki:20160207T000000
DTSTAMP:20260426T072020
CREATED:20180317T212610Z
LAST-MODIFIED:20210117T002100Z
UID:31606-1454785200-1454803200@petroupoli.gov.gr
SUMMARY:Ο χορός της πραγματικότητας
DESCRIPTION:La Danza de la Realidad. Σινεφίλ βιογραφική
URL:https://petroupoli.gov.gr/event/%ce%bf-%cf%87%ce%bf%cf%81%cf%8c%cf%82-%cf%84%ce%b7%cf%82-%cf%80%cf%81%ce%b1%ce%b3%ce%bc%ce%b1%cf%84%ce%b9%ce%ba%cf%8c%cf%84%ce%b7%cf%84%ce%b1%cf%82-2-2/
CATEGORIES:Εκδηλώσεις
ATTACH;FMTTYPE=image/jpeg:https://petroupoli.gov.gr/wp-content/uploads/2018/04/featured-4.jpg
END:VEVENT
BEGIN:VEVENT
DTSTART;TZID=Europe/Helsinki:20160203T200000
DTEND;TZID=Europe/Helsinki:20160203T200000
DTSTAMP:20260426T072020
CREATED:20180317T232610Z
LAST-MODIFIED:20180317T232610Z
UID:47669-1454529600-1454529600@petroupoli.gov.gr
SUMMARY:O γιός του φύλακα.
DESCRIPTION:Ελληνική
URL:https://petroupoli.gov.gr/event/o-%ce%b3%ce%b9%cf%8c%cf%82-%cf%84%ce%bf%cf%85-%cf%86%cf%8d%ce%bb%ce%b1%ce%ba%ce%b1-2-3/
CATEGORIES:Εκδηλώσεις,Κινηματογράφος
END:VEVENT
BEGIN:VEVENT
DTSTART;TZID=Europe/Helsinki:20160203T200000
DTEND;TZID=Europe/Helsinki:20160203T200000
DTSTAMP:20260426T072020
CREATED:20180317T232610Z
LAST-MODIFIED:20180317T232610Z
UID:47701-1454529600-1454529600@petroupoli.gov.gr
SUMMARY:O γιός του φύλακα.
DESCRIPTION:Ελληνική
URL:https://petroupoli.gov.gr/event/o-%ce%b3%ce%b9%cf%8c%cf%82-%cf%84%ce%bf%cf%85-%cf%86%cf%8d%ce%bb%ce%b1%ce%ba%ce%b1-2-4/
ATTACH;FMTTYPE=image/jpeg:https://petroupoli.gov.gr/wp-content/uploads/2018/04/featured-4-1.jpg
END:VEVENT
BEGIN:VEVENT
DTSTART;TZID=Europe/Helsinki:20160203T200000
DTEND;TZID=Europe/Helsinki:20160203T200000
DTSTAMP:20260426T072020
CREATED:20180317T212610Z
LAST-MODIFIED:20210117T002100Z
UID:31607-1454529600-1454529600@petroupoli.gov.gr
SUMMARY:O γιός του φύλακα.
DESCRIPTION:Ελληνική
URL:https://petroupoli.gov.gr/event/o-%ce%b3%ce%b9%cf%8c%cf%82-%cf%84%ce%bf%cf%85-%cf%86%cf%8d%ce%bb%ce%b1%ce%ba%ce%b1-2-2/
CATEGORIES:Εκδηλώσεις
ATTACH;FMTTYPE=image/jpeg:https://petroupoli.gov.gr/wp-content/uploads/2018/04/featured-4.jpg
END:VEVENT
BEGIN:VEVENT
DTSTART;TZID=Europe/Helsinki:20160130T190000
DTEND;TZID=Europe/Helsinki:20160131T000000
DTSTAMP:20260426T072020
CREATED:20180317T232607Z
LAST-MODIFIED:20180317T232607Z
UID:47668-1454180400-1454198400@petroupoli.gov.gr
SUMMARY:ΜΑΝΤΑΡΙΝΙΑ
DESCRIPTION:Σάββατο 30 – Κυριακή 31/1/16: Μανταρίνια / Tangerines. \nΔραματική
URL:https://petroupoli.gov.gr/event/%ce%bc%ce%b1%ce%bd%cf%84%ce%b1%cf%81%ce%b9%ce%bd%ce%b9%ce%b1-2-3/
CATEGORIES:Εκδηλώσεις,Κινηματογράφος
END:VEVENT
BEGIN:VEVENT
DTSTART;TZID=Europe/Helsinki:20160130T190000
DTEND;TZID=Europe/Helsinki:20160131T000000
DTSTAMP:20260426T072020
CREATED:20180317T232607Z
LAST-MODIFIED:20180317T232607Z
UID:47673-1454180400-1454198400@petroupoli.gov.gr
SUMMARY:ΜΑΝΤΑΡΙΝΙΑ
DESCRIPTION:Σάββατο 30 – Κυριακή 31/1/16: Μανταρίνια / Tangerines. \nΔραματική
URL:https://petroupoli.gov.gr/event/%ce%bc%ce%b1%ce%bd%cf%84%ce%b1%cf%81%ce%b9%ce%bd%ce%b9%ce%b1-2-4/
ATTACH;FMTTYPE=image/jpeg:https://petroupoli.gov.gr/wp-content/uploads/2018/04/featured-4-1.jpg
END:VEVENT
BEGIN:VEVENT
DTSTART;TZID=Europe/Helsinki:20160130T190000
DTEND;TZID=Europe/Helsinki:20160131T000000
DTSTAMP:20260426T072020
CREATED:20180317T212607Z
LAST-MODIFIED:20210117T002100Z
UID:31609-1454180400-1454198400@petroupoli.gov.gr
SUMMARY:ΜΑΝΤΑΡΙΝΙΑ
DESCRIPTION:Σάββατο 30 – Κυριακή 31/1/16: Μανταρίνια / Tangerines. \nΔραματική
URL:https://petroupoli.gov.gr/event/%ce%bc%ce%b1%ce%bd%cf%84%ce%b1%cf%81%ce%b9%ce%bd%ce%b9%ce%b1-2-2/
CATEGORIES:Εκδηλώσεις
ATTACH;FMTTYPE=image/jpeg:https://petroupoli.gov.gr/wp-content/uploads/2018/04/featured-4.jpg
END:VEVENT
BEGIN:VEVENT
DTSTART;TZID=Europe/Helsinki:20160127T200000
DTEND;TZID=Europe/Helsinki:20160127T200000
DTSTAMP:20260426T072020
CREATED:20180317T232606Z
LAST-MODIFIED:20180317T232606Z
UID:47667-1453924800-1453924800@petroupoli.gov.gr
SUMMARY:MACURO
DESCRIPTION:Μακούρο
URL:https://petroupoli.gov.gr/event/macuro-2-3/
CATEGORIES:Εκδηλώσεις,Κινηματογράφος
END:VEVENT
BEGIN:VEVENT
DTSTART;TZID=Europe/Helsinki:20160127T200000
DTEND;TZID=Europe/Helsinki:20160127T200000
DTSTAMP:20260426T072020
CREATED:20180317T232606Z
LAST-MODIFIED:20180317T232606Z
UID:47674-1453924800-1453924800@petroupoli.gov.gr
SUMMARY:MACURO
DESCRIPTION:Μακούρο
URL:https://petroupoli.gov.gr/event/macuro-2-4/
ATTACH;FMTTYPE=image/jpeg:https://petroupoli.gov.gr/wp-content/uploads/2018/04/featured-4-1.jpg
END:VEVENT
BEGIN:VEVENT
DTSTART;TZID=Europe/Helsinki:20160127T200000
DTEND;TZID=Europe/Helsinki:20160127T200000
DTSTAMP:20260426T072020
CREATED:20180317T212606Z
LAST-MODIFIED:20210117T002101Z
UID:31610-1453924800-1453924800@petroupoli.gov.gr
SUMMARY:MACURO
DESCRIPTION:Μακούρο
URL:https://petroupoli.gov.gr/event/macuro-2-2/
CATEGORIES:Εκδηλώσεις
ATTACH;FMTTYPE=image/jpeg:https://petroupoli.gov.gr/wp-content/uploads/2018/04/featured-4.jpg
END:VEVENT
BEGIN:VEVENT
DTSTART;TZID=Europe/Helsinki:20160124T190000
DTEND;TZID=Europe/Helsinki:20160125T000000
DTSTAMP:20260426T072020
CREATED:20180317T232606Z
LAST-MODIFIED:20180317T232606Z
UID:47666-1453662000-1453680000@petroupoli.gov.gr
SUMMARY:Pride
DESCRIPTION:Σατιρική κωμωδία
URL:https://petroupoli.gov.gr/event/pride-4/
CATEGORIES:Εκδηλώσεις,Κινηματογράφος
END:VEVENT
BEGIN:VEVENT
DTSTART;TZID=Europe/Helsinki:20160124T190000
DTEND;TZID=Europe/Helsinki:20160125T000000
DTSTAMP:20260426T072020
CREATED:20180317T232606Z
LAST-MODIFIED:20180317T232606Z
UID:47675-1453662000-1453680000@petroupoli.gov.gr
SUMMARY:Pride
DESCRIPTION:Σατιρική κωμωδία
URL:https://petroupoli.gov.gr/event/pride-4-2/
ATTACH;FMTTYPE=image/jpeg:https://petroupoli.gov.gr/wp-content/uploads/2018/04/featured-4-1.jpg
END:VEVENT
BEGIN:VEVENT
DTSTART;TZID=Europe/Helsinki:20160123T190000
DTEND;TZID=Europe/Helsinki:20160124T000000
DTSTAMP:20260426T072020
CREATED:20180317T232606Z
LAST-MODIFIED:20180317T232606Z
UID:47665-1453575600-1453593600@petroupoli.gov.gr
SUMMARY:Pride
DESCRIPTION:Σατιρική κωμωδία
URL:https://petroupoli.gov.gr/event/pride-3-4/
CATEGORIES:Εκδηλώσεις,Κινηματογράφος
END:VEVENT
BEGIN:VEVENT
DTSTART;TZID=Europe/Helsinki:20160123T190000
DTEND;TZID=Europe/Helsinki:20160124T000000
DTSTAMP:20260426T072020
CREATED:20180317T232606Z
LAST-MODIFIED:20180317T232606Z
UID:47676-1453575600-1453593600@petroupoli.gov.gr
SUMMARY:Pride
DESCRIPTION:Σατιρική κωμωδία
URL:https://petroupoli.gov.gr/event/pride-3-5/
ATTACH;FMTTYPE=image/jpeg:https://petroupoli.gov.gr/wp-content/uploads/2018/04/featured-4-1.jpg
END:VEVENT
BEGIN:VEVENT
DTSTART;TZID=Europe/Helsinki:20160123T190000
DTEND;TZID=Europe/Helsinki:20160124T000000
DTSTAMP:20260426T072020
CREATED:20180317T212606Z
LAST-MODIFIED:20210117T002101Z
UID:31611-1453575600-1453593600@petroupoli.gov.gr
SUMMARY:Pride
DESCRIPTION:Σατιρική κωμωδία
URL:https://petroupoli.gov.gr/event/pride-3-3/
CATEGORIES:Εκδηλώσεις
ATTACH;FMTTYPE=image/jpeg:https://petroupoli.gov.gr/wp-content/uploads/2018/04/featured-4.jpg
END:VEVENT
END:VCALENDAR