BEGIN:VCALENDAR
VERSION:2.0
PRODID:-//Δήμος Πετρούπολης - ECPv6.15.20//NONSGML v1.0//EN
CALSCALE:GREGORIAN
METHOD:PUBLISH
X-WR-CALNAME:Δήμος Πετρούπολης
X-ORIGINAL-URL:https://petroupoli.gov.gr
X-WR-CALDESC:Δήμος Πετρούπολης - Εκδηλώσεις
REFRESH-INTERVAL;VALUE=DURATION:PT1H
X-Robots-Tag:noindex
X-PUBLISHED-TTL:PT1H
BEGIN:VTIMEZONE
TZID:Europe/Helsinki
BEGIN:DAYLIGHT
TZOFFSETFROM:+0200
TZOFFSETTO:+0300
TZNAME:EEST
DTSTART:20150329T010000
END:DAYLIGHT
BEGIN:STANDARD
TZOFFSETFROM:+0300
TZOFFSETTO:+0200
TZNAME:EET
DTSTART:20151025T010000
END:STANDARD
BEGIN:DAYLIGHT
TZOFFSETFROM:+0200
TZOFFSETTO:+0300
TZNAME:EEST
DTSTART:20160327T010000
END:DAYLIGHT
BEGIN:STANDARD
TZOFFSETFROM:+0300
TZOFFSETTO:+0200
TZNAME:EET
DTSTART:20161030T010000
END:STANDARD
BEGIN:DAYLIGHT
TZOFFSETFROM:+0200
TZOFFSETTO:+0300
TZNAME:EEST
DTSTART:20170326T010000
END:DAYLIGHT
BEGIN:STANDARD
TZOFFSETFROM:+0300
TZOFFSETTO:+0200
TZNAME:EET
DTSTART:20171029T010000
END:STANDARD
END:VTIMEZONE
BEGIN:VEVENT
DTSTART;TZID=Europe/Helsinki:20160925T210000
DTEND;TZID=Europe/Helsinki:20160925T235900
DTSTAMP:20260420T003808
CREATED:20180317T232214Z
LAST-MODIFIED:20180317T232214Z
UID:47235-1474837200-1474847940@petroupoli.gov.gr
SUMMARY:Το Ολοκαύτωμα του Αρκαδίου
DESCRIPTION:Η Θεατρική Ομάδα του συλλόγου Κρητών Πετρούπολης θα παρουσιάσει την παράσταση “Το Ολοκαύτωμα του Αρκαδίου” στο Θέατρο Πέτρας στα πλαίσια του Διεθνούς Φεστιβάλ.
URL:https://petroupoli.gov.gr/event/%cf%84%ce%bf-%ce%bf%ce%bb%ce%bf%ce%ba%ce%b1%cf%8d%cf%84%cf%89%ce%bc%ce%b1-%cf%84%ce%bf%cf%85-%ce%b1%cf%81%ce%ba%ce%b1%ce%b4%ce%af%ce%bf%cf%85-4/
LOCATION:Αττική
ATTACH;FMTTYPE=image/jpeg:https://petroupoli.gov.gr/wp-content/uploads/2018/04/featured-4-1.jpg
END:VEVENT
BEGIN:VEVENT
DTSTART;TZID=Europe/Helsinki:20160925T210000
DTEND;TZID=Europe/Helsinki:20160925T235900
DTSTAMP:20260420T003808
CREATED:20180317T212214Z
LAST-MODIFIED:20210117T010140Z
UID:31564-1474837200-1474847940@petroupoli.gov.gr
SUMMARY:Το Ολοκαύτωμα του Αρκαδίου
DESCRIPTION:Η Θεατρική Ομάδα του συλλόγου Κρητών Πετρούπολης θα παρουσιάσει την παράσταση “Το Ολοκαύτωμα του Αρκαδίου” στο Θέατρο Πέτρας στα πλαίσια του Διεθνούς Φεστιβάλ.
URL:https://petroupoli.gov.gr/event/%cf%84%ce%bf-%ce%bf%ce%bb%ce%bf%ce%ba%ce%b1%cf%8d%cf%84%cf%89%ce%bc%ce%b1-%cf%84%ce%bf%cf%85-%ce%b1%cf%81%ce%ba%ce%b1%ce%b4%ce%af%ce%bf%cf%85/
LOCATION:Αττική
CATEGORIES:Εκδηλώσεις,Θέατρο
ATTACH;FMTTYPE=image/jpeg:https://petroupoli.gov.gr/wp-content/uploads/2018/04/featured-4.jpg
END:VEVENT
BEGIN:VEVENT
DTSTART;TZID=Europe/Helsinki:20160920T210000
DTEND;TZID=Europe/Helsinki:20160920T235900
DTSTAMP:20260420T003808
CREATED:20180317T232146Z
LAST-MODIFIED:20180317T232146Z
UID:47171-1474405200-1474415940@petroupoli.gov.gr
SUMMARY:ΠΕΤΡΟΛΟΥΚΑΣ ΧΑΛΚΙΑΣ  "Η ΗΠΕΙΡΟΣ ΜΟΥ"
DESCRIPTION:Συμμετέχουν
URL:https://petroupoli.gov.gr/event/%cf%80%ce%b5%cf%84%cf%81%ce%bf%ce%bb%ce%bf%cf%85%ce%ba%ce%b1%cf%83-%cf%87%ce%b1%ce%bb%ce%ba%ce%b9%ce%b1%cf%83-%ce%b7-%ce%b7%cf%80%ce%b5%ce%b9%cf%81%ce%bf%cf%83-%ce%bc%ce%bf%cf%85-3/
LOCATION:Αττική
CATEGORIES:Εκδηλώσεις,Συναυλίες
END:VEVENT
BEGIN:VEVENT
DTSTART;TZID=Europe/Helsinki:20160920T210000
DTEND;TZID=Europe/Helsinki:20160920T235900
DTSTAMP:20260420T003808
CREATED:20180317T232146Z
LAST-MODIFIED:20180317T232146Z
UID:47193-1474405200-1474415940@petroupoli.gov.gr
SUMMARY:ΠΕΤΡΟΛΟΥΚΑΣ ΧΑΛΚΙΑΣ  "Η ΗΠΕΙΡΟΣ ΜΟΥ"
DESCRIPTION:Συμμετέχουν
URL:https://petroupoli.gov.gr/event/%cf%80%ce%b5%cf%84%cf%81%ce%bf%ce%bb%ce%bf%cf%85%ce%ba%ce%b1%cf%83-%cf%87%ce%b1%ce%bb%ce%ba%ce%b9%ce%b1%cf%83-%ce%b7-%ce%b7%cf%80%ce%b5%ce%b9%cf%81%ce%bf%cf%83-%ce%bc%ce%bf%cf%85-4/
LOCATION:Αττική
ATTACH;FMTTYPE=image/jpeg:https://petroupoli.gov.gr/wp-content/uploads/2018/04/featured-4-1.jpg
END:VEVENT
BEGIN:VEVENT
DTSTART;TZID=Europe/Helsinki:20160920T210000
DTEND;TZID=Europe/Helsinki:20160920T235900
DTSTAMP:20260420T003808
CREATED:20180317T212146Z
LAST-MODIFIED:20210117T000139Z
UID:31565-1474405200-1474415940@petroupoli.gov.gr
SUMMARY:ΠΕΤΡΟΛΟΥΚΑΣ ΧΑΛΚΙΑΣ  "Η ΗΠΕΙΡΟΣ ΜΟΥ"
DESCRIPTION:Συμμετέχουν
URL:https://petroupoli.gov.gr/event/%cf%80%ce%b5%cf%84%cf%81%ce%bf%ce%bb%ce%bf%cf%85%ce%ba%ce%b1%cf%83-%cf%87%ce%b1%ce%bb%ce%ba%ce%b9%ce%b1%cf%83-%ce%b7-%ce%b7%cf%80%ce%b5%ce%b9%cf%81%ce%bf%cf%83-%ce%bc%ce%bf%cf%85/
LOCATION:Αττική
CATEGORIES:Εκδηλώσεις
ATTACH;FMTTYPE=image/jpeg:https://petroupoli.gov.gr/wp-content/uploads/2018/04/featured-4.jpg
END:VEVENT
BEGIN:VEVENT
DTSTART;TZID=Europe/Helsinki:20160917T210000
DTEND;TZID=Europe/Helsinki:20160917T235900
DTSTAMP:20260420T003808
CREATED:20180317T232146Z
LAST-MODIFIED:20180317T232146Z
UID:47170-1474146000-1474156740@petroupoli.gov.gr
SUMMARY:ΓΙΑΝΝΗΣ ΠΑΡΙΟΣ "ΕΛΑ ΜΟΥ ΧΑΜΟΓΕΛΑ ΜΟΥ"
DESCRIPTION:Το Σάββατο 17 Σεπτεμβρίου
URL:https://petroupoli.gov.gr/event/%ce%b3%ce%b9%ce%b1%ce%bd%ce%bd%ce%b7%cf%83-%cf%80%ce%b1%cf%81%ce%b9%ce%bf%cf%83-%ce%b5%ce%bb%ce%b1-%ce%bc%ce%bf%cf%85-%cf%87%ce%b1%ce%bc%ce%bf%ce%b3%ce%b5%ce%bb%ce%b1-%ce%bc%ce%bf%cf%85-3/
LOCATION:Αττική
CATEGORIES:Εκδηλώσεις,Συναυλίες
END:VEVENT
BEGIN:VEVENT
DTSTART;TZID=Europe/Helsinki:20160917T210000
DTEND;TZID=Europe/Helsinki:20160917T235900
DTSTAMP:20260420T003808
CREATED:20180317T232146Z
LAST-MODIFIED:20180317T232146Z
UID:47194-1474146000-1474156740@petroupoli.gov.gr
SUMMARY:ΓΙΑΝΝΗΣ ΠΑΡΙΟΣ "ΕΛΑ ΜΟΥ ΧΑΜΟΓΕΛΑ ΜΟΥ"
DESCRIPTION:Το Σάββατο 17 Σεπτεμβρίου
URL:https://petroupoli.gov.gr/event/%ce%b3%ce%b9%ce%b1%ce%bd%ce%bd%ce%b7%cf%83-%cf%80%ce%b1%cf%81%ce%b9%ce%bf%cf%83-%ce%b5%ce%bb%ce%b1-%ce%bc%ce%bf%cf%85-%cf%87%ce%b1%ce%bc%ce%bf%ce%b3%ce%b5%ce%bb%ce%b1-%ce%bc%ce%bf%cf%85-4/
LOCATION:Αττική
ATTACH;FMTTYPE=image/jpeg:https://petroupoli.gov.gr/wp-content/uploads/2018/04/featured-4-1.jpg
END:VEVENT
BEGIN:VEVENT
DTSTART;TZID=Europe/Helsinki:20160917T210000
DTEND;TZID=Europe/Helsinki:20160917T235900
DTSTAMP:20260420T003808
CREATED:20180317T212146Z
LAST-MODIFIED:20210117T000139Z
UID:31566-1474146000-1474156740@petroupoli.gov.gr
SUMMARY:ΓΙΑΝΝΗΣ ΠΑΡΙΟΣ "ΕΛΑ ΜΟΥ ΧΑΜΟΓΕΛΑ ΜΟΥ"
DESCRIPTION:Το Σάββατο 17 Σεπτεμβρίου
URL:https://petroupoli.gov.gr/event/%ce%b3%ce%b9%ce%b1%ce%bd%ce%bd%ce%b7%cf%83-%cf%80%ce%b1%cf%81%ce%b9%ce%bf%cf%83-%ce%b5%ce%bb%ce%b1-%ce%bc%ce%bf%cf%85-%cf%87%ce%b1%ce%bc%ce%bf%ce%b3%ce%b5%ce%bb%ce%b1-%ce%bc%ce%bf%cf%85/
LOCATION:Αττική
CATEGORIES:Εκδηλώσεις
ATTACH;FMTTYPE=image/jpeg:https://petroupoli.gov.gr/wp-content/uploads/2018/04/featured-4.jpg
END:VEVENT
BEGIN:VEVENT
DTSTART;TZID=Europe/Helsinki:20160909T000000
DTEND;TZID=Europe/Helsinki:20160909T000000
DTSTAMP:20260420T003808
CREATED:20180317T232453Z
LAST-MODIFIED:20180317T232453Z
UID:47525-1473379200-1473379200@petroupoli.gov.gr
SUMMARY:ΕΚΔΗΛΩΣΕΙΣ ΓΙΑ ΤΟ ΕΤΟΣ ΕΛΛΑΔΑΣ ΡΩΣΙΑΣ & ΤΟ 3ο ΣΥΝΑΠΑΝΤΗΜΑ ΠΑΡΑΔΟΣΙΑΚΩΝ ΧΟΡΩΝ
DESCRIPTION:Ο Δήμος Πετρούπολης στα πλαίσια της ένταξης του έτους Ελλάδας Ρωσίας 2016
URL:https://petroupoli.gov.gr/event/%ce%b5%ce%ba%ce%b4%ce%b7%ce%bb%cf%89%cf%83%ce%b5%ce%b9%cf%83-%ce%b3%ce%b9%ce%b1-%cf%84%ce%bf-%ce%b5%cf%84%ce%bf%cf%83-%ce%b5%ce%bb%ce%bb%ce%b1%ce%b4%ce%b1%cf%83-%cf%81%cf%89%cf%83%ce%b9%ce%b1%cf%83-7/
LOCATION:Αττική
CATEGORIES:Εκδηλώσεις,Λοιπές Εκδηλώσεις
END:VEVENT
BEGIN:VEVENT
DTSTART;TZID=Europe/Helsinki:20160909T000000
DTEND;TZID=Europe/Helsinki:20160909T000000
DTSTAMP:20260420T003808
CREATED:20180317T232453Z
LAST-MODIFIED:20180317T232453Z
UID:47532-1473379200-1473379200@petroupoli.gov.gr
SUMMARY:ΕΚΔΗΛΩΣΕΙΣ ΓΙΑ ΤΟ ΕΤΟΣ ΕΛΛΑΔΑΣ ΡΩΣΙΑΣ & ΤΟ 3ο ΣΥΝΑΠΑΝΤΗΜΑ ΠΑΡΑΔΟΣΙΑΚΩΝ ΧΟΡΩΝ
DESCRIPTION:Ο Δήμος Πετρούπολης στα πλαίσια της ένταξης του έτους Ελλάδας Ρωσίας 2016
URL:https://petroupoli.gov.gr/event/%ce%b5%ce%ba%ce%b4%ce%b7%ce%bb%cf%89%cf%83%ce%b5%ce%b9%cf%83-%ce%b3%ce%b9%ce%b1-%cf%84%ce%bf-%ce%b5%cf%84%ce%bf%cf%83-%ce%b5%ce%bb%ce%bb%ce%b1%ce%b4%ce%b1%cf%83-%cf%81%cf%89%cf%83%ce%b9%ce%b1%cf%83-8/
LOCATION:Αττική
ATTACH;FMTTYPE=image/jpeg:https://petroupoli.gov.gr/wp-content/uploads/2018/04/featured-4-1.jpg
END:VEVENT
BEGIN:VEVENT
DTSTART;TZID=Europe/Helsinki:20160909T000000
DTEND;TZID=Europe/Helsinki:20160909T000000
DTSTAMP:20260420T003808
CREATED:20180317T212453Z
LAST-MODIFIED:20210117T000139Z
UID:31377-1473379200-1473379200@petroupoli.gov.gr
SUMMARY:ΕΚΔΗΛΩΣΕΙΣ ΓΙΑ ΤΟ ΕΤΟΣ ΕΛΛΑΔΑΣ ΡΩΣΙΑΣ & ΤΟ 3ο ΣΥΝΑΠΑΝΤΗΜΑ ΠΑΡΑΔΟΣΙΑΚΩΝ ΧΟΡΩΝ
DESCRIPTION:Ο Δήμος Πετρούπολης στα πλαίσια της ένταξης του έτους Ελλάδας Ρωσίας 2016
URL:https://petroupoli.gov.gr/event/%ce%b5%ce%ba%ce%b4%ce%b7%ce%bb%cf%89%cf%83%ce%b5%ce%b9%cf%83-%ce%b3%ce%b9%ce%b1-%cf%84%ce%bf-%ce%b5%cf%84%ce%bf%cf%83-%ce%b5%ce%bb%ce%bb%ce%b1%ce%b4%ce%b1%cf%83-%cf%81%cf%89%cf%83%ce%b9%ce%b1%cf%83-4/
LOCATION:Αττική
CATEGORIES:Εκδηλώσεις
ATTACH;FMTTYPE=image/jpeg:https://petroupoli.gov.gr/wp-content/uploads/2018/04/featured-4.jpg
END:VEVENT
BEGIN:VEVENT
DTSTART;TZID=Europe/Helsinki:20160629T210000
DTEND;TZID=Europe/Helsinki:20160629T210000
DTSTAMP:20260420T003808
CREATED:20180317T232215Z
LAST-MODIFIED:20180317T232215Z
UID:47231-1467234000-1467234000@petroupoli.gov.gr
SUMMARY:Τι  Ψάχνεις;
DESCRIPTION:<font face="tahoma
URL:https://petroupoli.gov.gr/event/%cf%84%ce%b9-%cf%88%ce%ac%cf%87%ce%bd%ce%b5%ce%b9%cf%82-3/
LOCATION:Αττική
CATEGORIES:Εκδηλώσεις,Θέατρο
END:VEVENT
BEGIN:VEVENT
DTSTART;TZID=Europe/Helsinki:20160629T210000
DTEND;TZID=Europe/Helsinki:20160629T210000
DTSTAMP:20260420T003808
CREATED:20180317T232215Z
LAST-MODIFIED:20180317T232215Z
UID:47253-1467234000-1467234000@petroupoli.gov.gr
SUMMARY:Τι  Ψάχνεις;
DESCRIPTION:<font face="tahoma
URL:https://petroupoli.gov.gr/event/%cf%84%ce%b9-%cf%88%ce%ac%cf%87%ce%bd%ce%b5%ce%b9%cf%82-4/
LOCATION:Αττική
ATTACH;FMTTYPE=image/jpeg:https://petroupoli.gov.gr/wp-content/uploads/2018/04/featured-4-1.jpg
END:VEVENT
BEGIN:VEVENT
DTSTART;TZID=Europe/Helsinki:20160629T210000
DTEND;TZID=Europe/Helsinki:20160629T210000
DTSTAMP:20260420T003808
CREATED:20180317T212215Z
LAST-MODIFIED:20210117T000140Z
UID:31568-1467234000-1467234000@petroupoli.gov.gr
SUMMARY:Τι  Ψάχνεις;
DESCRIPTION:<font face="tahoma
URL:https://petroupoli.gov.gr/event/%cf%84%ce%b9-%cf%88%ce%ac%cf%87%ce%bd%ce%b5%ce%b9%cf%82/
LOCATION:Αττική
CATEGORIES:Εκδηλώσεις
ATTACH;FMTTYPE=image/jpeg:https://petroupoli.gov.gr/wp-content/uploads/2018/04/featured-4.jpg
END:VEVENT
BEGIN:VEVENT
DTSTART;TZID=Europe/Helsinki:20160629T190000
DTEND;TZID=Europe/Helsinki:20160629T203000
DTSTAMP:20260420T003808
CREATED:20180317T232147Z
LAST-MODIFIED:20180317T232147Z
UID:47182-1467226800-1467232200@petroupoli.gov.gr
SUMMARY:Συναυλίες της Φιλαρμονικής Δήμου Πετρούπολης
DESCRIPTION:Στο πλαίσιο της Ευρωπαϊκής Ημέρας Μουσικής την Τρίτη 21 Ιουνίου 2016 η Φιλαρμονική Δήμου Πετρούπολης έδωσε συναυλία στο θερινό κινηματογράφο της πόλης με έργα κινηματογραφικής μουσικής και ενθουσίασε το κοινό. \nΤην Τετάρτη 29 Ιουνίου θα δώσει επίσης συναυλίες στην Αγία Τριάδα στις 19:00 και στη πλατεία Ηρώ στις 20:30 \n  \n  \n 
URL:https://petroupoli.gov.gr/event/%cf%83%cf%85%ce%bd%ce%b1%cf%85%ce%bb%ce%af%ce%b5%cf%82-%cf%84%ce%b7%cf%82-%cf%86%ce%b9%ce%bb%ce%b1%cf%81%ce%bc%ce%bf%ce%bd%ce%b9%ce%ba%ce%ae%cf%82-%ce%b4%ce%ae%ce%bc%ce%bf%cf%85-%cf%80%ce%b5%cf%84-3/
LOCATION:Αττική
CATEGORIES:Εκδηλώσεις,Συναυλίες
END:VEVENT
BEGIN:VEVENT
DTSTART;TZID=Europe/Helsinki:20160629T190000
DTEND;TZID=Europe/Helsinki:20160629T203000
DTSTAMP:20260420T003808
CREATED:20180317T232147Z
LAST-MODIFIED:20180317T232147Z
UID:47195-1467226800-1467232200@petroupoli.gov.gr
SUMMARY:Συναυλίες της Φιλαρμονικής Δήμου Πετρούπολης
DESCRIPTION:Στο πλαίσιο της Ευρωπαϊκής Ημέρας Μουσικής την Τρίτη 21 Ιουνίου 2016 η Φιλαρμονική Δήμου Πετρούπολης έδωσε συναυλία στο θερινό κινηματογράφο της πόλης με έργα κινηματογραφικής μουσικής και ενθουσίασε το κοινό. \nΤην Τετάρτη 29 Ιουνίου θα δώσει επίσης συναυλίες στην Αγία Τριάδα στις 19:00 και στη πλατεία Ηρώ στις 20:30 \n  \n  \n 
URL:https://petroupoli.gov.gr/event/%cf%83%cf%85%ce%bd%ce%b1%cf%85%ce%bb%ce%af%ce%b5%cf%82-%cf%84%ce%b7%cf%82-%cf%86%ce%b9%ce%bb%ce%b1%cf%81%ce%bc%ce%bf%ce%bd%ce%b9%ce%ba%ce%ae%cf%82-%ce%b4%ce%ae%ce%bc%ce%bf%cf%85-%cf%80%ce%b5%cf%84-4/
LOCATION:Αττική
ATTACH;FMTTYPE=image/jpeg:https://petroupoli.gov.gr/wp-content/uploads/2018/04/featured-4-1.jpg
END:VEVENT
BEGIN:VEVENT
DTSTART;TZID=Europe/Helsinki:20160629T190000
DTEND;TZID=Europe/Helsinki:20160629T203000
DTSTAMP:20260420T003808
CREATED:20180317T212147Z
LAST-MODIFIED:20210117T005500Z
UID:31569-1467226800-1467232200@petroupoli.gov.gr
SUMMARY:Συναυλίες της Φιλαρμονικής Δήμου Πετρούπολης
DESCRIPTION:Στο πλαίσιο της Ευρωπαϊκής Ημέρας Μουσικής την Τρίτη 21 Ιουνίου 2016 η Φιλαρμονική Δήμου Πετρούπολης έδωσε συναυλία στο θερινό κινηματογράφο της πόλης με έργα κινηματογραφικής μουσικής και ενθουσίασε το κοινό. \nΤην Τετάρτη 29 Ιουνίου θα δώσει επίσης συναυλίες στην Αγία Τριάδα στις 19:00 και στη πλατεία Ηρώ στις 20:30 \n  \n  \n 
URL:https://petroupoli.gov.gr/event/%cf%83%cf%85%ce%bd%ce%b1%cf%85%ce%bb%ce%af%ce%b5%cf%82-%cf%84%ce%b7%cf%82-%cf%86%ce%b9%ce%bb%ce%b1%cf%81%ce%bc%ce%bf%ce%bd%ce%b9%ce%ba%ce%ae%cf%82-%ce%b4%ce%ae%ce%bc%ce%bf%cf%85-%cf%80%ce%b5%cf%84/
LOCATION:Αττική
CATEGORIES:Εκδηλώσεις,Συναυλίες
ATTACH;FMTTYPE=image/jpeg:https://petroupoli.gov.gr/wp-content/uploads/2018/04/featured-4.jpg
END:VEVENT
BEGIN:VEVENT
DTSTART;TZID=Europe/Helsinki:20160627T100000
DTEND;TZID=Europe/Helsinki:20160627T220000
DTSTAMP:20260420T003808
CREATED:20180317T232453Z
LAST-MODIFIED:20180317T232453Z
UID:47526-1467021600-1467064800@petroupoli.gov.gr
SUMMARY:Εκθεση εικαστικών εργαστηρίων
DESCRIPTION:
URL:https://petroupoli.gov.gr/event/%ce%b5%ce%ba%ce%b8%ce%b5%cf%83%ce%b7-%ce%b5%ce%b9%ce%ba%ce%b1%cf%83%cf%84%ce%b9%ce%ba%cf%8e%ce%bd-%ce%b5%cf%81%ce%b3%ce%b1%cf%83%cf%84%ce%b7%cf%81%ce%af%cf%89%ce%bd-4-2/
LOCATION:Αττική
CATEGORIES:Εκδηλώσεις,Λοιπές Εκδηλώσεις
END:VEVENT
BEGIN:VEVENT
DTSTART;TZID=Europe/Helsinki:20160627T100000
DTEND;TZID=Europe/Helsinki:20160627T220000
DTSTAMP:20260420T003808
CREATED:20180317T232453Z
LAST-MODIFIED:20180317T232453Z
UID:47533-1467021600-1467064800@petroupoli.gov.gr
SUMMARY:Εκθεση εικαστικών εργαστηρίων
DESCRIPTION:
URL:https://petroupoli.gov.gr/event/%ce%b5%ce%ba%ce%b8%ce%b5%cf%83%ce%b7-%ce%b5%ce%b9%ce%ba%ce%b1%cf%83%cf%84%ce%b9%ce%ba%cf%8e%ce%bd-%ce%b5%cf%81%ce%b3%ce%b1%cf%83%cf%84%ce%b7%cf%81%ce%af%cf%89%ce%bd-4-3/
LOCATION:Αττική
ATTACH;FMTTYPE=image/jpeg:https://petroupoli.gov.gr/wp-content/uploads/2018/04/featured-4-1.jpg
END:VEVENT
BEGIN:VEVENT
DTSTART;TZID=Europe/Helsinki:20160627T100000
DTEND;TZID=Europe/Helsinki:20160627T220000
DTSTAMP:20260420T003808
CREATED:20180317T212453Z
LAST-MODIFIED:20210117T000140Z
UID:31378-1467021600-1467064800@petroupoli.gov.gr
SUMMARY:Εκθεση εικαστικών εργαστηρίων
DESCRIPTION:
URL:https://petroupoli.gov.gr/event/%ce%b5%ce%ba%ce%b8%ce%b5%cf%83%ce%b7-%ce%b5%ce%b9%ce%ba%ce%b1%cf%83%cf%84%ce%b9%ce%ba%cf%8e%ce%bd-%ce%b5%cf%81%ce%b3%ce%b1%cf%83%cf%84%ce%b7%cf%81%ce%af%cf%89%ce%bd-4/
LOCATION:Αττική
CATEGORIES:Εκδηλώσεις
ATTACH;FMTTYPE=image/jpeg:https://petroupoli.gov.gr/wp-content/uploads/2018/04/featured-4.jpg
END:VEVENT
BEGIN:VEVENT
DTSTART;TZID=Europe/Helsinki:20160610T213000
DTEND;TZID=Europe/Helsinki:20160611T000000
DTSTAMP:20260420T003808
CREATED:20180317T232146Z
LAST-MODIFIED:20180317T232146Z
UID:47172-1465594200-1465603200@petroupoli.gov.gr
SUMMARY:Εκδήλωση Συλλόγου Κρητών Πετρούπολης 10 και 11 Ιουνίου 2016
DESCRIPTION:
URL:https://petroupoli.gov.gr/event/%ce%b5%ce%ba%ce%b4%ce%ae%ce%bb%cf%89%cf%83%ce%b7-%cf%83%cf%85%ce%bb%ce%bb%cf%8c%ce%b3%ce%bf%cf%85-%ce%ba%cf%81%ce%b7%cf%84%cf%8e%ce%bd-%cf%80%ce%b5%cf%84%cf%81%ce%bf%cf%8d%cf%80%ce%bf%ce%bb%ce%b7-3/
LOCATION:Αττική
CATEGORIES:Εκδηλώσεις,Συναυλίες
END:VEVENT
BEGIN:VEVENT
DTSTART;TZID=Europe/Helsinki:20160610T213000
DTEND;TZID=Europe/Helsinki:20160611T000000
DTSTAMP:20260420T003808
CREATED:20180317T232146Z
LAST-MODIFIED:20180317T232146Z
UID:47196-1465594200-1465603200@petroupoli.gov.gr
SUMMARY:Εκδήλωση Συλλόγου Κρητών Πετρούπολης 10 και 11 Ιουνίου 2016
DESCRIPTION:
URL:https://petroupoli.gov.gr/event/%ce%b5%ce%ba%ce%b4%ce%ae%ce%bb%cf%89%cf%83%ce%b7-%cf%83%cf%85%ce%bb%ce%bb%cf%8c%ce%b3%ce%bf%cf%85-%ce%ba%cf%81%ce%b7%cf%84%cf%8e%ce%bd-%cf%80%ce%b5%cf%84%cf%81%ce%bf%cf%8d%cf%80%ce%bf%ce%bb%ce%b7-4/
LOCATION:Αττική
ATTACH;FMTTYPE=image/jpeg:https://petroupoli.gov.gr/wp-content/uploads/2018/04/featured-4-1.jpg
END:VEVENT
BEGIN:VEVENT
DTSTART;TZID=Europe/Helsinki:20160610T213000
DTEND;TZID=Europe/Helsinki:20160611T000000
DTSTAMP:20260420T003808
CREATED:20180317T212146Z
LAST-MODIFIED:20210117T000140Z
UID:31571-1465594200-1465603200@petroupoli.gov.gr
SUMMARY:Εκδήλωση Συλλόγου Κρητών Πετρούπολης 10 και 11 Ιουνίου 2016
DESCRIPTION:
URL:https://petroupoli.gov.gr/event/%ce%b5%ce%ba%ce%b4%ce%ae%ce%bb%cf%89%cf%83%ce%b7-%cf%83%cf%85%ce%bb%ce%bb%cf%8c%ce%b3%ce%bf%cf%85-%ce%ba%cf%81%ce%b7%cf%84%cf%8e%ce%bd-%cf%80%ce%b5%cf%84%cf%81%ce%bf%cf%8d%cf%80%ce%bf%ce%bb%ce%b7/
LOCATION:Αττική
CATEGORIES:Εκδηλώσεις
ATTACH;FMTTYPE=image/jpeg:https://petroupoli.gov.gr/wp-content/uploads/2018/04/featured-4.jpg
END:VEVENT
BEGIN:VEVENT
DTSTART;TZID=Europe/Helsinki:20160603T200000
DTEND;TZID=Europe/Helsinki:20160603T200000
DTSTAMP:20260420T003808
CREATED:20180317T232453Z
LAST-MODIFIED:20180317T232453Z
UID:47527-1464984000-1464984000@petroupoli.gov.gr
SUMMARY:Ετήσια Έκθεση Φωτογραφίας
DESCRIPTION:Ετήσια Έκθεση Φωτογραφίας3 – 6 Ιουνίου
URL:https://petroupoli.gov.gr/event/%ce%b5%cf%84%ce%ae%cf%83%ce%b9%ce%b1-%ce%ad%ce%ba%ce%b8%ce%b5%cf%83%ce%b7-%cf%86%cf%89%cf%84%ce%bf%ce%b3%cf%81%ce%b1%cf%86%ce%af%ce%b1%cf%82-4-2/
LOCATION:Αττική
CATEGORIES:Εκδηλώσεις,Λοιπές Εκδηλώσεις
END:VEVENT
BEGIN:VEVENT
DTSTART;TZID=Europe/Helsinki:20160603T200000
DTEND;TZID=Europe/Helsinki:20160603T200000
DTSTAMP:20260420T003808
CREATED:20180317T232453Z
LAST-MODIFIED:20180317T232453Z
UID:47534-1464984000-1464984000@petroupoli.gov.gr
SUMMARY:Ετήσια Έκθεση Φωτογραφίας
DESCRIPTION:Ετήσια Έκθεση Φωτογραφίας3 – 6 Ιουνίου
URL:https://petroupoli.gov.gr/event/%ce%b5%cf%84%ce%ae%cf%83%ce%b9%ce%b1-%ce%ad%ce%ba%ce%b8%ce%b5%cf%83%ce%b7-%cf%86%cf%89%cf%84%ce%bf%ce%b3%cf%81%ce%b1%cf%86%ce%af%ce%b1%cf%82-4-3/
LOCATION:Αττική
ATTACH;FMTTYPE=image/jpeg:https://petroupoli.gov.gr/wp-content/uploads/2018/04/featured-4-1.jpg
END:VEVENT
BEGIN:VEVENT
DTSTART;TZID=Europe/Helsinki:20160603T200000
DTEND;TZID=Europe/Helsinki:20160603T200000
DTSTAMP:20260420T003808
CREATED:20180317T212453Z
LAST-MODIFIED:20210117T000140Z
UID:31379-1464984000-1464984000@petroupoli.gov.gr
SUMMARY:Ετήσια Έκθεση Φωτογραφίας
DESCRIPTION:Ετήσια Έκθεση Φωτογραφίας3 – 6 Ιουνίου
URL:https://petroupoli.gov.gr/event/%ce%b5%cf%84%ce%ae%cf%83%ce%b9%ce%b1-%ce%ad%ce%ba%ce%b8%ce%b5%cf%83%ce%b7-%cf%86%cf%89%cf%84%ce%bf%ce%b3%cf%81%ce%b1%cf%86%ce%af%ce%b1%cf%82-4/
LOCATION:Αττική
CATEGORIES:Εκδηλώσεις
ATTACH;FMTTYPE=image/jpeg:https://petroupoli.gov.gr/wp-content/uploads/2018/04/featured-4.jpg
END:VEVENT
BEGIN:VEVENT
DTSTART;TZID=Europe/Helsinki:20160416T190000
DTEND;TZID=Europe/Helsinki:20160417T210000
DTSTAMP:20260420T003808
CREATED:20180317T232543Z
LAST-MODIFIED:20180317T232543Z
UID:47623-1460833200-1460926800@petroupoli.gov.gr
SUMMARY:ΤΟ ΑΡΝΑΚΙ
DESCRIPTION:The Lamb. Κοινωνική
URL:https://petroupoli.gov.gr/event/%cf%84%ce%bf-%ce%b1%cf%81%ce%bd%ce%b1%ce%ba%ce%b9-2-3/
LOCATION:Αττική
CATEGORIES:Εκδηλώσεις,Κινηματογράφος
END:VEVENT
BEGIN:VEVENT
DTSTART;TZID=Europe/Helsinki:20160416T190000
DTEND;TZID=Europe/Helsinki:20160417T210000
DTSTAMP:20260420T003808
CREATED:20180317T232543Z
LAST-MODIFIED:20180317T232543Z
UID:47633-1460833200-1460926800@petroupoli.gov.gr
SUMMARY:ΤΟ ΑΡΝΑΚΙ
DESCRIPTION:The Lamb. Κοινωνική
URL:https://petroupoli.gov.gr/event/%cf%84%ce%bf-%ce%b1%cf%81%ce%bd%ce%b1%ce%ba%ce%b9-2-4/
LOCATION:Αττική
ATTACH;FMTTYPE=image/jpeg:https://petroupoli.gov.gr/wp-content/uploads/2018/04/featured-4-1.jpg
END:VEVENT
BEGIN:VEVENT
DTSTART;TZID=Europe/Helsinki:20160416T190000
DTEND;TZID=Europe/Helsinki:20160417T210000
DTSTAMP:20260420T003808
CREATED:20180317T212543Z
LAST-MODIFIED:20210117T000140Z
UID:31573-1460833200-1460926800@petroupoli.gov.gr
SUMMARY:ΤΟ ΑΡΝΑΚΙ
DESCRIPTION:The Lamb. Κοινωνική
URL:https://petroupoli.gov.gr/event/%cf%84%ce%bf-%ce%b1%cf%81%ce%bd%ce%b1%ce%ba%ce%b9-2-2/
LOCATION:Αττική
CATEGORIES:Εκδηλώσεις
ATTACH;FMTTYPE=image/jpeg:https://petroupoli.gov.gr/wp-content/uploads/2018/04/featured-4.jpg
END:VEVENT
BEGIN:VEVENT
DTSTART;TZID=Europe/Helsinki:20160413T200000
DTEND;TZID=Europe/Helsinki:20160413T200000
DTSTAMP:20260420T003808
CREATED:20180317T232543Z
LAST-MODIFIED:20180317T232543Z
UID:47624-1460577600-1460577600@petroupoli.gov.gr
SUMMARY:ΚΟΥΡΑΓΙΟ
DESCRIPTION:Don’t Be Tired! Ιρανική
URL:https://petroupoli.gov.gr/event/%ce%ba%ce%bf%cf%85%cf%81%ce%b1%ce%b3%ce%b9%ce%bf-2-3/
LOCATION:Αττική
CATEGORIES:Εκδηλώσεις,Κινηματογράφος
END:VEVENT
END:VCALENDAR