BEGIN:VCALENDAR
VERSION:2.0
PRODID:-//Δήμος Πετρούπολης - ECPv6.15.20//NONSGML v1.0//EN
CALSCALE:GREGORIAN
METHOD:PUBLISH
X-ORIGINAL-URL:https://petroupoli.gov.gr
X-WR-CALDESC:Δήμος Πετρούπολης - Εκδηλώσεις
REFRESH-INTERVAL;VALUE=DURATION:PT1H
X-Robots-Tag:noindex
X-PUBLISHED-TTL:PT1H
BEGIN:VTIMEZONE
TZID:Europe/Helsinki
BEGIN:DAYLIGHT
TZOFFSETFROM:+0200
TZOFFSETTO:+0300
TZNAME:EEST
DTSTART:20220327T010000
END:DAYLIGHT
BEGIN:STANDARD
TZOFFSETFROM:+0300
TZOFFSETTO:+0200
TZNAME:EET
DTSTART:20221030T010000
END:STANDARD
BEGIN:DAYLIGHT
TZOFFSETFROM:+0200
TZOFFSETTO:+0300
TZNAME:EEST
DTSTART:20230326T010000
END:DAYLIGHT
BEGIN:STANDARD
TZOFFSETFROM:+0300
TZOFFSETTO:+0200
TZNAME:EET
DTSTART:20231029T010000
END:STANDARD
BEGIN:DAYLIGHT
TZOFFSETFROM:+0200
TZOFFSETTO:+0300
TZNAME:EEST
DTSTART:20240331T010000
END:DAYLIGHT
BEGIN:STANDARD
TZOFFSETFROM:+0300
TZOFFSETTO:+0200
TZNAME:EET
DTSTART:20241027T010000
END:STANDARD
END:VTIMEZONE
BEGIN:VEVENT
DTSTART;TZID=Europe/Helsinki:20230925T203000
DTEND;TZID=Europe/Helsinki:20230926T203000
DTSTAMP:20260420T013847
CREATED:20230921T161327Z
LAST-MODIFIED:20230921T161327Z
UID:66855-1695673800-1695760200@petroupoli.gov.gr
SUMMARY:«Ελευσίνια Μυστήρια» Θεατρική Ομάδα Ρόδα
DESCRIPTION:Η ουσία και το βαθύτερο νόημα των εννέα ημερών της πιο φημισμένης τελετουργίας των αρχαίων χρόνων\, τα σεβαστά Μεγάλα Μυστήρια της Δήμητρας και Κόρης\, ζωντανεύουν στο θέατρο Πέτρας τη Δευτέρα 25 και την Τρίτη 26 Σεπτεμβρίου 2023 στις 20:30\, με θεατρικά δρώμενα\, ήχους και μελωδίες επικλήσεων\, εορτασμών\, προσευχών και ποιητικής μύησης. \nΗ μουσική παράσταση της ΡΟΔΑ αποδίδει φόρο τιμής στην πόλη της Ελευσίνας\, της Πολιτιστικής Πρωτεύουσας της Ευρώπης για το 2023\, δίνοντας στους θεατές την ευκαιρία να ζήσουν στιγμές βιωματικής εμπειρίας και άμεσης συμμετοχής στη ζωντανή δόνηση των μυστών της Ελευσίνιας μυητικής διαδικασίας.\nΜετά από πολύχρονη μελέτη κάθε άποψης των Ελευσινίων Τελετών\, των φιλοσοφικών\, μυστικιστικών και αρχαιολογικών πτυχών τους\, η μουσική παράσταση της ΡΟΔΑ παρουσιάζει μια θεατρική εκδοχή των δρώμενων σ’ εκείνα τα κορυφαία Μυστήρια της γεωργικής λατρείας\, τα οποία σύμφωνα με τον Όμηρο\, η ίδια η θεά αποκάλυψε στους ανθρώπους\, ώστε\, μέσα από την παραβολή τού σπόρου που μπαίνει στη γη για να ανθίσει\, να εξευμενίζεται το πνεύμα από τον πόνο και την απελπισία που φέρνει η φαινομενικά αδιέξοδη προοπτική τού θανάτου. \nΣυντελεστές \n\nΣκηνοθεσία: Μαρία Περετζή\nΚείμενα: Δημήτρης και Μαρία Περετζή\nΣκηνικά: Nίκος Τσιουμπλεκτσής\nΜουσική: Τάκης Πατερέλης (πιάνο\, φλάουτο\, φωνητικά) / Πία Πιερράκου (πιάνο\, φωνητικά) / Γιώργος Ντούνης (κρουστά) / Μαρία Θωίδου (φωνητικά) / Πάτυ Παπαγεωργίου (φωνητικά) / Μυρτάλη Παπαγεωργίου(φωνητικά\, κρουστά) / Κώστας Χρισταντώνης (φωνητικά) / Σταύρος Κάππας (φωνητικά)\n\n\nΜουσική επιμέλεια – ενορχήστρωση: Μαρία Περετζή\nΧορικά: Μαρία Περετζή\nΚουστούμια: Μαρία Περετζή / Ιουλία Βεντίκου / ΒίκηTσέλιου / Άννα Κυπραίου / Αθηνά Παπαφώτη / Μαρία Λόγια\nΗχητικά: Δημήτρης Δημητριάδης\nΦωτισμός: Μαρία Περετζή / Δημήτρης Νέλλας / Φώτης Τραγανουδάκης\nΜακιγιάζ: Πάττυ Παπαγεωργίου\n\n\nΥποκριτικά / Χορικά\nΠερσεφόνη: Ιουλία Βεντίκου / Μυρτάλη Παπαγεωργίου\nΔήμητρα: Άννα Κυπραίου\nΕκάτη: Λένα Κοντοπίδου\nΥπερίων / Γεφυριστής: Γιάννης Αγγέλης\nΑγγελιοφόρος / Ιακχαγωγός: Σταύρος Κάππας\nΑγγελιοφόρος / Ιερέας: Γιώργος Κωστογιάννης\nΆρχοντας / Γεφυριστής / Ιερέας: Δημήτρης Νέλλας\nΔαδούχος / Ιερέας Μυσταγωγός: Σταμάτης Λόγος\nΕπόπτης / Ιερέας: Δημήτρης Μπόζες\nΜύστης / Ιερέας: Θωμάς Γκότσης\nΒαυώ: Εύα Αυλίδου\nΙέρεια / Μυσταγωγός: Κωνσταντίνα Μπαξεβάνου\nΠλούτωνας / Ιεροφάντης: Nίκος Τσιουμπλεκτσής\n\n\nΣυμμετέχουν: Χρήστος Βελαώρας\, Αλέκος Καλογιαννίδης\, Μάνια Μεταξά\, Πάττυ Παπαγεωργίου\, Αθηνά Παπαφώτη\, Μαρίζα Πελεκάνου\, Πενθεσίλεια Πετρίδου\, Ράνια Σπυροπούλου\, Βίκυ Τσέλιου\, Μαρία Τσούγκα\nΘέατρο Πέτρας: Δευτέρα 25 και Τρίτη 26 Σεπτεμβρίου 2023 \nΏρα έναρξης: 20.30\nΤιμή εισιτηρίων: Γενική Είσοδος: 18€\nΦοιτητές\, συνταξιούχοι\, Α.Μ.Ε.Α. και παιδιά: 15€\n\n\nΠροπώληση:\nOnline: https://www.more.com/theater/festival/eleusinia-mystiria/\nΠληροφορίες:\nwww.rodatheater.gr\nΤηλέφωνο: 2106128198\n  \n  \n2023-ElefsinisMistiria\n  \n  \n  \n  \n 
URL:https://petroupoli.gov.gr/event/2023-elefsinia-mistiria/
LOCATION:Θέατρο Πέτρας\, Θέατρο Πέτρας\, Πετρούπολη\, 13231\, Ελλάδα
CATEGORIES:Θέατρο
GEO:38.0420481;23.6816545
X-APPLE-STRUCTURED-LOCATION;VALUE=URI;X-ADDRESS=Θέατρο Πέτρας Θέατρο Πέτρας Πετρούπολη 13231 Ελλάδα;X-APPLE-RADIUS=500;X-TITLE=Θέατρο Πέτρας:geo:23.6816545,38.0420481
END:VEVENT
END:VCALENDAR