BEGIN:VCALENDAR
VERSION:2.0
PRODID:-//Δήμος Πετρούπολης - ECPv6.15.20//NONSGML v1.0//EN
CALSCALE:GREGORIAN
METHOD:PUBLISH
X-ORIGINAL-URL:https://petroupoli.gov.gr
X-WR-CALDESC:Δήμος Πετρούπολης - Εκδηλώσεις
REFRESH-INTERVAL;VALUE=DURATION:PT1H
X-Robots-Tag:noindex
X-PUBLISHED-TTL:PT1H
BEGIN:VTIMEZONE
TZID:Europe/Helsinki
BEGIN:DAYLIGHT
TZOFFSETFROM:+0200
TZOFFSETTO:+0300
TZNAME:EEST
DTSTART:20220327T010000
END:DAYLIGHT
BEGIN:STANDARD
TZOFFSETFROM:+0300
TZOFFSETTO:+0200
TZNAME:EET
DTSTART:20221030T010000
END:STANDARD
BEGIN:DAYLIGHT
TZOFFSETFROM:+0200
TZOFFSETTO:+0300
TZNAME:EEST
DTSTART:20230326T010000
END:DAYLIGHT
BEGIN:STANDARD
TZOFFSETFROM:+0300
TZOFFSETTO:+0200
TZNAME:EET
DTSTART:20231029T010000
END:STANDARD
BEGIN:DAYLIGHT
TZOFFSETFROM:+0200
TZOFFSETTO:+0300
TZNAME:EEST
DTSTART:20240331T010000
END:DAYLIGHT
BEGIN:STANDARD
TZOFFSETFROM:+0300
TZOFFSETTO:+0200
TZNAME:EET
DTSTART:20241027T010000
END:STANDARD
END:VTIMEZONE
BEGIN:VEVENT
DTSTART;TZID=Europe/Helsinki:20230924T193000
DTEND;TZID=Europe/Helsinki:20230924T193000
DTSTAMP:20260420T013849
CREATED:20230922T044205Z
LAST-MODIFIED:20230922T044205Z
UID:66861-1695583800-1695583800@petroupoli.gov.gr
SUMMARY:Δωρεάν προβολή της ταινίας «Άγρια χόρτα» με θέμα τη Μικρασιατική Καταστροφή
DESCRIPTION:Ο Δήμος Πετρούπολης και η συμπεριληπτική ομάδα «Oι Ονειροδίαιτοι»\, σας προσκαλούν στη Δωρεάν προβολή της Κινηματογραφικής Ταινίας «Άγρια χόρτα»\, την Κυριακή 24 Σεπτεμβρίου 2023 και ώρα 19:30 στο Πνευματικό Κέντρο του Δήμου (Μπουμπουλίνας 59 & Αθανασίου Διάκου). \nΜε αφορμή τα 100 συν 1 χρόνια από τη Μικρασιατική Καταστροφή\, και με τη βοήθεια αρχειακού υλικού\, οι μαρτυρίες προσφύγων αποκτούν\, ξανά\, ζωή μέσα από τις φωνές των “Ονειροδίαιτων” και συνομιλούν με τις επιστολές του Τζορτζ Χόρτον\, του Αμερικανού Γενικού Προξένου Σμύρνης.\nΠρόκειται για μια καλλιτεχνική δημιουργία της συμπεριληπτικής – παιδαγωγικής ομάδας «Οι Ονειροδίαιτοι» (ομάδα αποτελούμενη από μαθητές\, αποφοίτους και καθηγητές Ειδικής και Τυπικής Αγωγής και Εκπαίδευσης) και της Κατερίνας Ευαγγελάκου. \nΣκηνοθεσία: Κατερίνα Ευαγγελάκου\nΔιδασκαλία Υποκριτικής: Αμαλία Στολάτη\nΣύνθεση κειμένου: Μαρίνα Μυρτάλη\, Κατερίνα Ευαγγελάκου\, Κρίνα Αναγνωστοπούλου\, Κωνσταντίνος Μπιμπής\nΜουσική: Σταυρούλα Ζώρζου\nΤραγούδι: Καίτη Κουλλιά\nΣυνεργάστηκαν μαθητές και εκπαιδευτικοί από 8 σχολεία: Ενιαίο Ειδικό Επαγγελματικό Γυμνάσιο & Λύκειο Αχαρνών\, Ειδικό ΓΕΛ Ιλίου\, 1ο Γυμνάσιο Αγ. Βαρβάρας\, Εσπερινό ΓΕΛ Αγ. Αναργύρων\, 1ο ΓΕΛ Αγ. Αναργύρων\, 1ο Γυμνάσιο Αγ. Αναργύρων\, 3ο ΓΕΛ Αγ. Αναργύρων\, ΓΕΛ Αναβύσσου. \nΔείτε το τρέιλερ της ταινίας στον ακόλουθο σύνδεσμο: https://youtu.be/ciEdKvaErP8 \nΤην εκδήλωση θα πλαισιώσουν:\n• Το Τμήμα Παραδοσιακών Χορών του Δήμου Πετρούπολης με χορούς από τη Μικρά Ασία\n• Η ομάδα «Λόγια της Σιωπής» με την παρουσίαση του τραγουδιού “Μενεξέδες και Ζoυμπούλια” στην Ελληνική Νοηματική Γλώσσα. \nΔιοργάνωση: Διεύθυνση Πολιτισμού\, Αθλητισμού & Νεολαίας – Γραφείο Τύπου Δήμου Πετρούπολης.\nΤηλέφωνο Επικοινωνίας: 213 2024417 \n  \n  \n2023-AgriaXorta\n  \n  \n  \n  \n  \n 
URL:https://petroupoli.gov.gr/event/2023-agria-xorta/
LOCATION:Πνευματικό Κέντρο Πετρούπολης\, Μπουμπουλίνας 59 & Αθ. Διάκου\, Πετρούπολη\, Αττικής\, 13231\, Ελλάδα
CATEGORIES:Λοιπές Εκδηλώσεις
GEO:38.0420481;23.6816545
X-APPLE-STRUCTURED-LOCATION;VALUE=URI;X-ADDRESS=Πνευματικό Κέντρο Πετρούπολης Μπουμπουλίνας 59 & Αθ. Διάκου Πετρούπολη Αττικής 13231 Ελλάδα;X-APPLE-RADIUS=500;X-TITLE=Μπουμπουλίνας 59 & Αθ. Διάκου:geo:23.6816545,38.0420481
END:VEVENT
END:VCALENDAR