BEGIN:VCALENDAR
VERSION:2.0
PRODID:-//Δήμος Πετρούπολης - ECPv6.15.20//NONSGML v1.0//EN
CALSCALE:GREGORIAN
METHOD:PUBLISH
X-WR-CALNAME:Δήμος Πετρούπολης
X-ORIGINAL-URL:https://petroupoli.gov.gr
X-WR-CALDESC:Δήμος Πετρούπολης - Εκδηλώσεις
REFRESH-INTERVAL;VALUE=DURATION:PT1H
X-Robots-Tag:noindex
X-PUBLISHED-TTL:PT1H
BEGIN:VTIMEZONE
TZID:Europe/Helsinki
BEGIN:DAYLIGHT
TZOFFSETFROM:+0200
TZOFFSETTO:+0300
TZNAME:EEST
DTSTART:20220327T010000
END:DAYLIGHT
BEGIN:STANDARD
TZOFFSETFROM:+0300
TZOFFSETTO:+0200
TZNAME:EET
DTSTART:20221030T010000
END:STANDARD
BEGIN:DAYLIGHT
TZOFFSETFROM:+0200
TZOFFSETTO:+0300
TZNAME:EEST
DTSTART:20230326T010000
END:DAYLIGHT
BEGIN:STANDARD
TZOFFSETFROM:+0300
TZOFFSETTO:+0200
TZNAME:EET
DTSTART:20231029T010000
END:STANDARD
BEGIN:DAYLIGHT
TZOFFSETFROM:+0200
TZOFFSETTO:+0300
TZNAME:EEST
DTSTART:20240331T010000
END:DAYLIGHT
BEGIN:STANDARD
TZOFFSETFROM:+0300
TZOFFSETTO:+0200
TZNAME:EET
DTSTART:20241027T010000
END:STANDARD
END:VTIMEZONE
BEGIN:VEVENT
DTSTART;TZID=Europe/Helsinki:20230923T203000
DTEND;TZID=Europe/Helsinki:20230923T203000
DTSTAMP:20260420T025059
CREATED:20230920T182851Z
LAST-MODIFIED:20230920T182851Z
UID:66839-1695501000-1695501000@petroupoli.gov.gr
SUMMARY:«Μικρασία Χαίρε!»
DESCRIPTION:«Μικρασία Χαίρε!»\nΣωματείο Παραδοσιακών Χορών και Μουσικής «Ραβαΐσι» \nΜε αφορμή τη συμπλήρωση εκατό και ενός έτους από τη Μικρασιατική Καταστροφή\, το Σωματείο Παραδοσιακών Χορών και Μουσικής «Ραβαΐσι» παρουσιάζει μία μουσικοχορευτική εκδήλωση με ζωντανή ορχήστρα που αποτελείται από 13 μουσικούς\, το Σάββατο 23 Σεπτεμβρίου 2023 και ώρα 20:30 στο Θέατρο Πέτρας. \n\nΗ είσοδος θα είναι ελεύθερη για το κοινό\n\n\nΤραγουδά η καταξιωμένη Μαρία Αναματερού\nΑφήγηση: Δήμητρα Στογιάννη\n\n\nΣυνδιοργάνωση με την Περιφέρεια Αττικής.\n\n\n\nΠληροφορίες:\nΣωματείο Παραδοσιακών Χορών και Μουσικής «Ραβαΐσι»\, toravaisi@gmail.com\,\nΤηλέφωνο επικοινωνίας: 6942926876 \n  \n  \n2023-MikraAsiaXaire\n  \n  \n  \n  \n 
URL:https://petroupoli.gov.gr/event/2023-mikra-asia-xaire/
LOCATION:Θέατρο Πέτρας\, Θέατρο Πέτρας\, Πετρούπολη\, 13231\, Ελλάδα
CATEGORIES:Λοιπές Εκδηλώσεις
GEO:38.0420481;23.6816545
X-APPLE-STRUCTURED-LOCATION;VALUE=URI;X-ADDRESS=Θέατρο Πέτρας Θέατρο Πέτρας Πετρούπολη 13231 Ελλάδα;X-APPLE-RADIUS=500;X-TITLE=Θέατρο Πέτρας:geo:23.6816545,38.0420481
END:VEVENT
END:VCALENDAR