BEGIN:VCALENDAR
VERSION:2.0
PRODID:-//Δήμος Πετρούπολης - ECPv6.15.20//NONSGML v1.0//EN
CALSCALE:GREGORIAN
METHOD:PUBLISH
X-ORIGINAL-URL:https://petroupoli.gov.gr
X-WR-CALDESC:Δήμος Πετρούπολης - Εκδηλώσεις
REFRESH-INTERVAL;VALUE=DURATION:PT1H
X-Robots-Tag:noindex
X-PUBLISHED-TTL:PT1H
BEGIN:VTIMEZONE
TZID:Europe/Helsinki
BEGIN:DAYLIGHT
TZOFFSETFROM:+0200
TZOFFSETTO:+0300
TZNAME:EEST
DTSTART:20220327T010000
END:DAYLIGHT
BEGIN:STANDARD
TZOFFSETFROM:+0300
TZOFFSETTO:+0200
TZNAME:EET
DTSTART:20221030T010000
END:STANDARD
BEGIN:DAYLIGHT
TZOFFSETFROM:+0200
TZOFFSETTO:+0300
TZNAME:EEST
DTSTART:20230326T010000
END:DAYLIGHT
BEGIN:STANDARD
TZOFFSETFROM:+0300
TZOFFSETTO:+0200
TZNAME:EET
DTSTART:20231029T010000
END:STANDARD
BEGIN:DAYLIGHT
TZOFFSETFROM:+0200
TZOFFSETTO:+0300
TZNAME:EEST
DTSTART:20240331T010000
END:DAYLIGHT
BEGIN:STANDARD
TZOFFSETFROM:+0300
TZOFFSETTO:+0200
TZNAME:EET
DTSTART:20241027T010000
END:STANDARD
END:VTIMEZONE
BEGIN:VEVENT
DTSTART;TZID=Europe/Helsinki:20230911T210000
DTEND;TZID=Europe/Helsinki:20230911T210000
DTSTAMP:20260420T013846
CREATED:20230907T105153Z
LAST-MODIFIED:20230907T105153Z
UID:66620-1694466000-1694466000@petroupoli.gov.gr
SUMMARY:«Οιδίπους Τύραννος» του Σοφοκλή
DESCRIPTION:Ο «Οιδίπους Τύραννος» έρχεται στο Θέατρο Πέτρας τη Δευτέρα 11 Σεπτεμβρίου 2023 στις 21.00. \nΟ Οιδίπους βρίσκεται αντιμέτωπος με το πεπρωμένο του\, από το οποίο προσπαθεί να ξεφύγει από τότε που γεννήθηκε. Ο χρησμός που έλαβε ο πατέρας του\, βασιλιάς της Θήβας\, Λάιος\, επιβεβαιώνεται με τον χειρότερο τρόπο. Ο Οιδίπους γίνεται εν αγνοία του πατροκτόνος\, παντρεύεται τη μητέρα του Ιοκάστη και ανεβαίνει ο ίδιος στον θρόνο της Θήβας. Η τραγική αλήθεια δεν αργεί να αποκαλυφθεί\, επιβεβαιώνοντας ότι ο άνθρωπος δεν μπορεί να ξεφύγει από τη μοίρα του.\nΟ «Οιδίπους Τύραννος» θεωρείται ένα από τα πιο αγαπημένα και πολυπαιγμένα έργα της αρχαίας ελληνικής γραμματείας\, στη χώρα μας αλλά και παγκοσμίως\, ταξιδεύοντας το ελληνικό πνεύμα και τα διαχρονικά του μηνύματα σε ολόκληρη την ανθρωπότητα. \nΣημείωμα Σίμου Κακάλα\nΠοτέ άλλοτε στην ιστορία της ανθρωπότητας δεν έχουμε «δει» τόσο μακριά μέσα στο σύμπαν και τόσο βαθιά μέσα στον άνθρωπο. Πολύ συχνά στο χείλος μιας καταστροφής διαπιστώνουμε ότι το κακό που πολεμάμε είμαστε οι ίδιοι. Το πρόσωπο του Οιδίποδα είναι η ίδια η ανθρωπότητα στον καθρέφτη.\nΈχοντας βρει τον υπαίτιο\, βρίσκεται στο σημείο να πρέπει επιτακτικά να κάνει μια επιλογή έστω την τελευταία στιγμή\, έστω έχοντας ήδη κάνει το μεγαλύτερο σφάλμα.\nΣ’ αυτή την παράσταση\, ιδωμένη ως τελετουργικό εξαγνισμού\, μια ομάδα με μάσκες γερόντων αποτελεί τον χορό\, συστρέφεται\, θρηνεί και αγωνιά. Μέσα από αυτόν τον χορό αποκαλύπτονται τα τραγικά πρόσωπα Οιδίποδας\, Ιοκάστη\, Τειρεσίας και Κρέοντας. \nΣΥΝΤΕΛΕΣΤΕΣ\nΜετάφραση: Γιώργος Μπλάνας\nΣκηνοθεσία: Σίμος Κακάλας\nΔραματουργική επεξεργασία: Έλενα Τριανταφυλλοπούλου\nΣκηνικά-Κοστούμια: Γιάννης Κατρανίτσας\nΜουσική: Φώτης Σιώτας\nΚίνηση: Σοφία Πάσχου\nΣχεδιασμός φωτισμών: Αλέκος Γιάνναρος\nΜάσκες: Μάρθα Φωκά\nΒοηθός σκηνοθέτη: Γιώργος Παύλου\nΒοηθός σκηνογράφου: Σοφία Θεοδωράκη\nΜακιγιάζ: Σίσσυ Πετροπούλου\nΦωτογραφίες: Πάτροκλος Σκαφίδας\nSocial media: Ιdeation\nΓραφίστας: Γιάννης Σταματόπουλος\nTrailer: Μιχαήλ Μαυρομούστακος\nΥπεύθυνη περιοδείας: Ελένη Σπετσιώτη\nΔιεύθυνση παραγωγής: Αναστασία Καβαλλάρη\nΕκτέλεση παραγωγής: Kart Productions – Μαρία Ξανθοπουλίδου\nΠαραγωγή: Θεατρικά Δρώμενα Ίασμος \nΔΙΑΝΟΜΗ\nΟιδίπους: Γιάννης Στάνκογλου\nΙοκάστη: Μαριλίτα Λαμπροπούλου\nΚρέων: Γιάννης Νταλιάνης\nΤειρεσίας: Χρήστος Μαλάκης\nΕξάγγελος: Σίμος Κακάλας\nΑγγελιοφόρος: Γιώργος Αμούτζας\nΥπηρέτης: Πανάγος Ιωακείμ \nΧορός (αλφαβητικά): Γιώργος Αμούτζας\, Μάρκος Γέττος\, Πανάγος Ιωακείμ\, Σίμος Κακάλας\, Απόστολος Καμιτσάκης\, Γιώργος Κορομπίλης\, Αυγουστίνος Κούμουλος\, Μαριλίτα Λαμπροπούλου\, Γιώργος Λόξας\, Χρήστος Μαλάκης\, Γιάννης Νταλιάνης\, Παύλος Παυλίδης\, Γιάννης Στάνκογλου \nΜουσικός επί σκηνής: Φώτης Σιώτας \nTRAILER : https://youtu.be/M6XubC6pP8g \nΘέατρο Πέτρας: Δευτέρα 11 Σεπτεμβρίου 2023\nΏρα έναρξης: 21.00\nΤιμές εισιτηρίων: Γενική είσοδος: 22€\, Μειωμένο: 17€ (φοιτητικό\, ανέργων και ΑΜΕΑ)\nΠροπώληση:\nhttps://www.more.com/theater/oidipous-tyrannos-periodeia/\nhttps://tickets.public.gr/…/oidipous-tyrannos-periodeia/ \n  \n  \n  \n2023-OidipousTiranos_Sofokli\n  \n  \n  \n  \n  \n 
URL:https://petroupoli.gov.gr/event/%ce%bf%ce%b9%ce%b4%ce%af%cf%80%ce%bf%cf%85%cf%82-%cf%84%cf%8d%cf%81%ce%b1%ce%bd%ce%bd%ce%bf%cf%82-%cf%84%ce%bf%cf%85-%cf%83%ce%bf%cf%86%ce%bf%ce%ba%ce%bb%ce%ae/
LOCATION:Θέατρο Πέτρας\, Θέατρο Πέτρας\, Πετρούπολη\, 13231\, Ελλάδα
CATEGORIES:Θέατρο
GEO:38.0420481;23.6816545
X-APPLE-STRUCTURED-LOCATION;VALUE=URI;X-ADDRESS=Θέατρο Πέτρας Θέατρο Πέτρας Πετρούπολη 13231 Ελλάδα;X-APPLE-RADIUS=500;X-TITLE=Θέατρο Πέτρας:geo:23.6816545,38.0420481
END:VEVENT
END:VCALENDAR