BEGIN:VCALENDAR
VERSION:2.0
PRODID:-//Δήμος Πετρούπολης - ECPv6.15.20//NONSGML v1.0//EN
CALSCALE:GREGORIAN
METHOD:PUBLISH
X-ORIGINAL-URL:https://petroupoli.gov.gr
X-WR-CALDESC:Δήμος Πετρούπολης - Εκδηλώσεις
REFRESH-INTERVAL;VALUE=DURATION:PT1H
X-Robots-Tag:noindex
X-PUBLISHED-TTL:PT1H
BEGIN:VTIMEZONE
TZID:Europe/Helsinki
BEGIN:DAYLIGHT
TZOFFSETFROM:+0200
TZOFFSETTO:+0300
TZNAME:EEST
DTSTART:20220327T010000
END:DAYLIGHT
BEGIN:STANDARD
TZOFFSETFROM:+0300
TZOFFSETTO:+0200
TZNAME:EET
DTSTART:20221030T010000
END:STANDARD
BEGIN:DAYLIGHT
TZOFFSETFROM:+0200
TZOFFSETTO:+0300
TZNAME:EEST
DTSTART:20230326T010000
END:DAYLIGHT
BEGIN:STANDARD
TZOFFSETFROM:+0300
TZOFFSETTO:+0200
TZNAME:EET
DTSTART:20231029T010000
END:STANDARD
BEGIN:DAYLIGHT
TZOFFSETFROM:+0200
TZOFFSETTO:+0300
TZNAME:EEST
DTSTART:20240331T010000
END:DAYLIGHT
BEGIN:STANDARD
TZOFFSETFROM:+0300
TZOFFSETTO:+0200
TZNAME:EET
DTSTART:20241027T010000
END:STANDARD
END:VTIMEZONE
BEGIN:VEVENT
DTSTART;TZID=Europe/Helsinki:20230904T210000
DTEND;TZID=Europe/Helsinki:20230904T210000
DTSTAMP:20260420T024308
CREATED:20230904T044637Z
LAST-MODIFIED:20230904T044637Z
UID:66558-1693861200-1693861200@petroupoli.gov.gr
SUMMARY:«Οιδίπους επί Κολωνώ»
DESCRIPTION: Δημήτρης Καταλειφός\, ο κορυφαίος Έλληνας ηθοποιός\, στην ωριμότερη στιγμή της σπουδαίας πορείας του\, πρωταγωνιστεί για πρώτη φορά στην Επίδαυρο\, στο αριστούργημα του Σοφοκλή «Οιδίπους επί Κολωνώ»\, σε σκηνοθεσία του Γιώργου Σκεύα\, που θα παρουσιαστεί στο Θέατρο Πέτρας τη Δευτέρα 4 Σεπτεμβρίου 2023 στις 21.00.  \n\n\n\nΤο έργο\nΗ τραγωδία «Οιδίπους επί Κολωνώ» είναι το τελευταίο έργο του Σοφοκλή. Παρουσιάστηκε για πρώτη φορά πέντε χρόνια μετά το θάνατο του ποιητή και πραγματεύεται το τέλος του Οιδίποδα\, άλλοτε κραταιού βασιλιά της Θήβας.\n\n\nΟ Οιδίποδας\, γέροντας πια\, τυφλός και εξόριστος\, φτάνει μετά από μακρά περιπλάνηση στον Αθηναϊκό δήμο του Ίππιου Κολωνού\, οδηγούμενος από τη μια του κόρη\, την Αντιγόνη. Κάθεται σ’ έναν βράχο μέσα στο ιερό άλσος των Ευμενίδων\, αλλά κάποιος κάτοικος του Κολωνού τον ανακαλύπτει και του ζητά να φύγει γιατί ο χώρος όπου κάθεται είναι ιερός και άβατος. Ο Οιδίποδας αρνείται γιατί σύμφωνα με τον χρησμό\, αυτό το μέρος θα είναι ο τόπος της τελικής του ανάπαυσης.\n\n\nΟ κάτοικος του Κολωνού καλεί τους γέροντες του τόπου να αποφασίσουν. Εκείνοι συμπονούν τον γέροντα ικέτη\, αλλά μόλις μαθαίνουν το όνομά του\, τρομοκρατούνται και τον διατάζουν να φύγει αμέσως απ’ τη χώρα τους. Ο Οιδίποδας επικαλείται την Αθηναϊκή φιλοξενία και ζητά να δει τον Θησέα\, τον βασιλιά της Αθήνας\, διότι έχει να του προσφέρει μεγάλο δώρο για την πόλη του.\n\n\nΣτο μεταξύ\, έρχεται αναπάντεχα η Ισμήνη\, η άλλη κόρη του Οιδίποδα\, μεταφέροντας τα νέα απ’ τη Θήβα: Οι γιοί του Οιδίποδα ο Πολυνείκης και ο Ετεοκλής\, βρίσκονται στα πρόθυρα εμφυλίου πολέμου\, διεκδικώντας ο καθένας για τον εαυτό του\, τον θρόνο και την εξουσία. Επιπλέον\, ένας νέος χρησμός ορίζει πως όποιος έχει με το μέρος του τον Οιδίποδα\, νεκρό ή ζωντανό\, αυτός κερδίζει. Καταφτάνει ο Θησέας και ο Οιδίποδας του ζητά προστασία για όσο ζει καθώς και να ταφεί στο χώμα της Αθήνας όταν έρθει το τέλος της ζωής του. Ο Θησέας τιμώντας τον Οιδίποδα\, δεσμεύεται και για τα δύο και τον διαβεβαιώνει ότι είναι ασφαλής.\n\n\nΣτη σκηνή εισβάλλει ο Κρέοντας\, ανακοινώνοντας ότι έρχεται εκ μέρους όλων των Θηβαίων\, για να πείσει τον Οιδίποδα να γυρίσει πίσω στην πατρίδα του\, τη Θήβα. Όταν βλέπει πως τα λόγια του δεν πείθουν\, αλλά αντίθετα εξοργίζουν τον Οιδίποδα\, ο Κρέοντας\, για να πετύχει τον σκοπό του\, καταφεύγει στη βία…\n\n\n\nΤΑΥΤΟΤΗΤΑ ΠΑΡΑΣΤΑΣΗΣ\nΜετάφραση | Χρύσα Προκοπάκη\, Θάνος Τσακνάκης\nΣκηνοθεσία | Γιώργος Σκεύας\nΔραματουργική επεξεργασία | Γιώργος Σκεύας\, Χρύσα Προκοπάκη\nΣκηνικά – Κοστούμια | Λίλη Πεζανού\nΜουσική | Σήμη Τσιλαλή\nΦωτισμοί | Λευτέρης Παυλόπουλος\nΚίνηση | Damiano Ottavio Bigi\nΦωτογραφίες | Πάτροκλος Σκαφίδας\nΤρέιλερ | Μιχαήλ Μαυρομούστακος\nΒοηθός σκηνοθέτη | Γιάννης Σαβουιδάκης\nΒοηθός ενδυματολόγου | Χάρης Σουλιώτης\nΒοηθοί Παραγωγής | Βαγγέλης Βογιατζής\, Ξένια Καλαντζή\nΔιεύθυνση Παραγωγής | Κατερίνα Μπερδέκα\nΠαραγωγή | Λυκόφως – Γιώργος Λυκιαρδόπουλος\nΦεστιβάλ Αθηνών Επιδαύρου\n\n\nΠαίζουν οι ηθοποιοί:\nΔΗΜΗΤΡΗΣ ΚΑΤΑΛΕΙΦΟΣ | ΧΡΗΣΤΟΣ ΧΑΤΖΗΠΑΝΑΓΙΩΤΗΣ | ΑΓΓΕΛΙΚΗ ΠΑΠΑΘΕΜΕΛΗ | ΑΛΕΞΑΝΔΡΑ ΑΙΔΙΝΗ | ΜΑΞΙΜΟΣ ΜΟΥΜΟΥΡΗΣ | ΧΡΗΣΤΟΣ ΣΑΠΟΥΝΤΖΗΣ | ΓΙΩΡΓΟΣ ΝΟΥΣΗΣ | ΝΙΚΟΣ ΝΙΚΑΣ | ΓΙΩΡΓΟΣ ΦΡΙΤΖΗΛΑΣ | DAMIANO OTTAVIO | ΝΙΚΟΣ ΔΕΡΤΙΛΗΣ | ΓΙΩΡΓΟΣ ΜΠΟΥΤΣΙΚΑΣ\n\n\n\nΘέατρο Πέτρας: Δευτέρα 4 Σεπτεμβρίου 2023\nΏρα έναρξης: 21.00\nΔιάρκεια Παράστασης: 1 ώρα και 40 λεπτά\nΤα εισιτήρια έχουν εξαντληθεί.\n\n\n\n\n\n  \n2023-OidipousEpiKolono_th\n  \n  \n  \n  \n 
URL:https://petroupoli.gov.gr/event/2023-oidipous-epi-kolono-sofokli/
LOCATION:Θέατρο Πέτρας\, Θέατρο Πέτρας\, Πετρούπολη\, 13231\, Ελλάδα
CATEGORIES:Θέατρο
GEO:38.0420481;23.6816545
X-APPLE-STRUCTURED-LOCATION;VALUE=URI;X-ADDRESS=Θέατρο Πέτρας Θέατρο Πέτρας Πετρούπολη 13231 Ελλάδα;X-APPLE-RADIUS=500;X-TITLE=Θέατρο Πέτρας:geo:23.6816545,38.0420481
END:VEVENT
END:VCALENDAR