BEGIN:VCALENDAR
VERSION:2.0
PRODID:-//Δήμος Πετρούπολης - ECPv6.15.20//NONSGML v1.0//EN
CALSCALE:GREGORIAN
METHOD:PUBLISH
X-WR-CALNAME:Δήμος Πετρούπολης
X-ORIGINAL-URL:https://petroupoli.gov.gr
X-WR-CALDESC:Δήμος Πετρούπολης - Εκδηλώσεις
REFRESH-INTERVAL;VALUE=DURATION:PT1H
X-Robots-Tag:noindex
X-PUBLISHED-TTL:PT1H
BEGIN:VTIMEZONE
TZID:Europe/Helsinki
BEGIN:DAYLIGHT
TZOFFSETFROM:+0200
TZOFFSETTO:+0300
TZNAME:EEST
DTSTART:20220327T010000
END:DAYLIGHT
BEGIN:STANDARD
TZOFFSETFROM:+0300
TZOFFSETTO:+0200
TZNAME:EET
DTSTART:20221030T010000
END:STANDARD
BEGIN:DAYLIGHT
TZOFFSETFROM:+0200
TZOFFSETTO:+0300
TZNAME:EEST
DTSTART:20230326T010000
END:DAYLIGHT
BEGIN:STANDARD
TZOFFSETFROM:+0300
TZOFFSETTO:+0200
TZNAME:EET
DTSTART:20231029T010000
END:STANDARD
BEGIN:DAYLIGHT
TZOFFSETFROM:+0200
TZOFFSETTO:+0300
TZNAME:EEST
DTSTART:20240331T010000
END:DAYLIGHT
BEGIN:STANDARD
TZOFFSETFROM:+0300
TZOFFSETTO:+0200
TZNAME:EET
DTSTART:20241027T010000
END:STANDARD
END:VTIMEZONE
BEGIN:VEVENT
DTSTART;TZID=Europe/Helsinki:20230703T213000
DTEND;TZID=Europe/Helsinki:20230703T213000
DTSTAMP:20260420T013742
CREATED:20230629T192730Z
LAST-MODIFIED:20230629T192730Z
UID:65421-1688419800-1688419800@petroupoli.gov.gr
SUMMARY:Συναυλία: ΑΝΤΩΝΗΣ ΡΕΜΟΣ
DESCRIPTION:Ο Αντώνης Ρέμος\, ο κορυφαίος Έλληνας ερμηνευτής\, θα μας χαρίσει μοναδικές στιγμές και αυτό το καλοκαίρι\, στο πλαίσιο του «Διεθνούς Φεστιβάλ Πέτρας»\, τη Δευτέρα 3 Ιουλίου 2023 και ώρα 21:30.\n\n\nΜια υπέροχη συναυλία\, γεμάτη αγαπημένα τραγούδια\, μοναδικές ερμηνείες και πολύ κέφι\, στην Πετρούπολη!\n\n\nΠλαισιωμένος από μια δυνατή μπάντα με καταξιωμένους σολίστες\, ο Αντώνης Ρέμος\, για ακόμη μια φορά\, θα μας εντυπωσιάσει με τις δυνατές ερμηνείες του και τα τραγούδια του\, παλιά\, αλλά και καινούργια\, που έχουμε όλοι αγαπήσει & τραγουδήσει.\n\n\nΜαζί του ο MENTE FUERTE!\n\n\nΘέατρο Πέτρας: Δευτέρα 3 Ιουλίου 2023\nΏρα έναρξης: 21:30\nΤιμή εισιτηρίου: 20 ευρώ\nΠροπώληση: https://www.ticketservices.gr/…/antonis-remos…/…\n\n\n\n\n\n\n\n2023-AntonisRemos
URL:https://petroupoli.gov.gr/event/2023-pf-antonis-remos/
LOCATION:Θέατρο Πέτρας\, Θέατρο Πέτρας\, Πετρούπολη\, 13231\, Ελλάδα
CATEGORIES:Συναυλίες
GEO:38.0420481;23.6816545
X-APPLE-STRUCTURED-LOCATION;VALUE=URI;X-ADDRESS=Θέατρο Πέτρας Θέατρο Πέτρας Πετρούπολη 13231 Ελλάδα;X-APPLE-RADIUS=500;X-TITLE=Θέατρο Πέτρας:geo:23.6816545,38.0420481
END:VEVENT
END:VCALENDAR