BEGIN:VCALENDAR
VERSION:2.0
PRODID:-//Δήμος Πετρούπολης - ECPv6.15.20//NONSGML v1.0//EN
CALSCALE:GREGORIAN
METHOD:PUBLISH
X-WR-CALNAME:Δήμος Πετρούπολης
X-ORIGINAL-URL:https://petroupoli.gov.gr
X-WR-CALDESC:Δήμος Πετρούπολης - Εκδηλώσεις
REFRESH-INTERVAL;VALUE=DURATION:PT1H
X-Robots-Tag:noindex
X-PUBLISHED-TTL:PT1H
BEGIN:VTIMEZONE
TZID:Europe/Helsinki
BEGIN:DAYLIGHT
TZOFFSETFROM:+0200
TZOFFSETTO:+0300
TZNAME:EEST
DTSTART:20150329T010000
END:DAYLIGHT
BEGIN:STANDARD
TZOFFSETFROM:+0300
TZOFFSETTO:+0200
TZNAME:EET
DTSTART:20151025T010000
END:STANDARD
BEGIN:DAYLIGHT
TZOFFSETFROM:+0200
TZOFFSETTO:+0300
TZNAME:EEST
DTSTART:20160327T010000
END:DAYLIGHT
BEGIN:STANDARD
TZOFFSETFROM:+0300
TZOFFSETTO:+0200
TZNAME:EET
DTSTART:20161030T010000
END:STANDARD
BEGIN:DAYLIGHT
TZOFFSETFROM:+0200
TZOFFSETTO:+0300
TZNAME:EEST
DTSTART:20170326T010000
END:DAYLIGHT
BEGIN:STANDARD
TZOFFSETFROM:+0300
TZOFFSETTO:+0200
TZNAME:EET
DTSTART:20171029T010000
END:STANDARD
END:VTIMEZONE
BEGIN:VEVENT
DTSTART;TZID=Europe/Helsinki:20161202T190000
DTEND;TZID=Europe/Helsinki:20161202T220000
DTSTAMP:20260423T015826
CREATED:20180317T212503Z
LAST-MODIFIED:20210117T001731Z
UID:31390-1480705200-1480716000@petroupoli.gov.gr
SUMMARY:Eκδήλωση-γιορτή του τμήματος ΑΜΕΑ
DESCRIPTION:Ο Δήμος Πετρούπολης σας προσκαλεί στην εκδήλωση-γιορτή του τμήματος ΑΜΕΑ στα πλαίσια της Παγκόσμιας Ημέρας Ατόμων με Αναπηρία 2016 που θα πραγματοποιηθεί την Παρασκευή 2 Δεκεμβρίου 2016
URL:https://petroupoli.gov.gr/event/e%ce%ba%ce%b4%ce%ae%ce%bb%cf%89%cf%83%ce%b7-%ce%b3%ce%b9%ce%bf%cf%81%cf%84%ce%ae-%cf%84%ce%bf%cf%85-%cf%84%ce%bc%ce%ae%ce%bc%ce%b1%cf%84%ce%bf%cf%82-%ce%b1%ce%bc%ce%b5%ce%b1-4/
LOCATION:Αττικής
CATEGORIES:Εκδηλώσεις
ATTACH;FMTTYPE=image/jpeg:https://petroupoli.gov.gr/wp-content/uploads/2018/04/featured-4.jpg
END:VEVENT
BEGIN:VEVENT
DTSTART;TZID=Europe/Helsinki:20161202T190000
DTEND;TZID=Europe/Helsinki:20161202T220000
DTSTAMP:20260423T015826
CREATED:20180317T232503Z
LAST-MODIFIED:20180317T232503Z
UID:47547-1480705200-1480716000@petroupoli.gov.gr
SUMMARY:Eκδήλωση-γιορτή του τμήματος ΑΜΕΑ
DESCRIPTION:Ο Δήμος Πετρούπολης σας προσκαλεί στην εκδήλωση-γιορτή του τμήματος ΑΜΕΑ στα πλαίσια της Παγκόσμιας Ημέρας Ατόμων με Αναπηρία 2016 που θα πραγματοποιηθεί την Παρασκευή 2 Δεκεμβρίου 2016
URL:https://petroupoli.gov.gr/event/e%ce%ba%ce%b4%ce%ae%ce%bb%cf%89%cf%83%ce%b7-%ce%b3%ce%b9%ce%bf%cf%81%cf%84%ce%ae-%cf%84%ce%bf%cf%85-%cf%84%ce%bc%ce%ae%ce%bc%ce%b1%cf%84%ce%bf%cf%82-%ce%b1%ce%bc%ce%b5%ce%b1-4-2/
LOCATION:Αττικής
CATEGORIES:Εκδηλώσεις,Λοιπές Εκδηλώσεις
END:VEVENT
BEGIN:VEVENT
DTSTART;TZID=Europe/Helsinki:20161202T190000
DTEND;TZID=Europe/Helsinki:20161202T220000
DTSTAMP:20260423T015826
CREATED:20180317T232503Z
LAST-MODIFIED:20180317T232503Z
UID:47556-1480705200-1480716000@petroupoli.gov.gr
SUMMARY:Eκδήλωση-γιορτή του τμήματος ΑΜΕΑ
DESCRIPTION:Ο Δήμος Πετρούπολης σας προσκαλεί στην εκδήλωση-γιορτή του τμήματος ΑΜΕΑ στα πλαίσια της Παγκόσμιας Ημέρας Ατόμων με Αναπηρία 2016 που θα πραγματοποιηθεί την Παρασκευή 2 Δεκεμβρίου 2016
URL:https://petroupoli.gov.gr/event/e%ce%ba%ce%b4%ce%ae%ce%bb%cf%89%cf%83%ce%b7-%ce%b3%ce%b9%ce%bf%cf%81%cf%84%ce%ae-%cf%84%ce%bf%cf%85-%cf%84%ce%bc%ce%ae%ce%bc%ce%b1%cf%84%ce%bf%cf%82-%ce%b1%ce%bc%ce%b5%ce%b1-4-3/
LOCATION:Αττικής
ATTACH;FMTTYPE=image/jpeg:https://petroupoli.gov.gr/wp-content/uploads/2018/04/featured-4-1.jpg
END:VEVENT
END:VCALENDAR