BEGIN:VCALENDAR
VERSION:2.0
PRODID:-//Δήμος Πετρούπολης - ECPv6.15.20//NONSGML v1.0//EN
CALSCALE:GREGORIAN
METHOD:PUBLISH
X-WR-CALNAME:Δήμος Πετρούπολης
X-ORIGINAL-URL:https://petroupoli.gov.gr
X-WR-CALDESC:Δήμος Πετρούπολης - Εκδηλώσεις
REFRESH-INTERVAL;VALUE=DURATION:PT1H
X-Robots-Tag:noindex
X-PUBLISHED-TTL:PT1H
BEGIN:VTIMEZONE
TZID:Europe/Helsinki
BEGIN:DAYLIGHT
TZOFFSETFROM:+0200
TZOFFSETTO:+0300
TZNAME:EEST
DTSTART:20150329T010000
END:DAYLIGHT
BEGIN:STANDARD
TZOFFSETFROM:+0300
TZOFFSETTO:+0200
TZNAME:EET
DTSTART:20151025T010000
END:STANDARD
BEGIN:DAYLIGHT
TZOFFSETFROM:+0200
TZOFFSETTO:+0300
TZNAME:EEST
DTSTART:20160327T010000
END:DAYLIGHT
BEGIN:STANDARD
TZOFFSETFROM:+0300
TZOFFSETTO:+0200
TZNAME:EET
DTSTART:20161030T010000
END:STANDARD
BEGIN:DAYLIGHT
TZOFFSETFROM:+0200
TZOFFSETTO:+0300
TZNAME:EEST
DTSTART:20170326T010000
END:DAYLIGHT
BEGIN:STANDARD
TZOFFSETFROM:+0300
TZOFFSETTO:+0200
TZNAME:EET
DTSTART:20171029T010000
END:STANDARD
END:VTIMEZONE
BEGIN:VEVENT
DTSTART;TZID=Europe/Helsinki:20161128T190000
DTEND;TZID=Europe/Helsinki:20161128T220000
DTSTAMP:20260423T004948
CREATED:20180317T212503Z
LAST-MODIFIED:20210116T235948Z
UID:31389-1480359600-1480370400@petroupoli.gov.gr
SUMMARY:Αφιέρωμα στη νεοελληνική ποίηση - Τάκης Σινόπουλος
DESCRIPTION:Το 5ο ΓΕ.Λ. Πετρούπολης στο πλαίσιο των δραστηριοτήτων του δικτύου των σχολείων της UNESCO και του πολιτιστικού προγράμματος «Αφιέρωμα στη νεοελληνική ποίηση» σας προσκαλεί τη Δευτέρα 28 Νοεμβρίου 2016 στις 19.00 στο Πνευματικό Κέντρο του Δήμου Πετρούπολης (Μπουμπουλίνας & Αθ. Διάκου) σε εκδήλωση για τον ποιητή της μεταπολεμικής γενιάς Τάκη Σινόπουλο.Τον ποιητή θα παρουσιάσει και θα ανθολογήσει ο πρόεδρος του ιδρύματος  «Τάκης Σινόπουλος»
URL:https://petroupoli.gov.gr/event/%ce%b1%cf%86%ce%b9%ce%ad%cf%81%cf%89%ce%bc%ce%b1-%cf%83%cf%84%ce%b7-%ce%bd%ce%b5%ce%bf%ce%b5%ce%bb%ce%bb%ce%b7%ce%bd%ce%b9%ce%ba%ce%ae-%cf%80%ce%bf%ce%af%ce%b7%cf%83%ce%b7-%cf%84%ce%ac%ce%ba%ce%b7-4/
LOCATION:Αττικής
CATEGORIES:Εκδηλώσεις
ATTACH;FMTTYPE=image/jpeg:https://petroupoli.gov.gr/wp-content/uploads/2018/04/featured-4.jpg
END:VEVENT
BEGIN:VEVENT
DTSTART;TZID=Europe/Helsinki:20161128T190000
DTEND;TZID=Europe/Helsinki:20161128T220000
DTSTAMP:20260423T004948
CREATED:20180317T232503Z
LAST-MODIFIED:20180317T232503Z
UID:47546-1480359600-1480370400@petroupoli.gov.gr
SUMMARY:Αφιέρωμα στη νεοελληνική ποίηση - Τάκης Σινόπουλος
DESCRIPTION:Το 5ο ΓΕ.Λ. Πετρούπολης στο πλαίσιο των δραστηριοτήτων του δικτύου των σχολείων της UNESCO και του πολιτιστικού προγράμματος «Αφιέρωμα στη νεοελληνική ποίηση» σας προσκαλεί τη Δευτέρα 28 Νοεμβρίου 2016 στις 19.00 στο Πνευματικό Κέντρο του Δήμου Πετρούπολης (Μπουμπουλίνας & Αθ. Διάκου) σε εκδήλωση για τον ποιητή της μεταπολεμικής γενιάς Τάκη Σινόπουλο.Τον ποιητή θα παρουσιάσει και θα ανθολογήσει ο πρόεδρος του ιδρύματος  «Τάκης Σινόπουλος»
URL:https://petroupoli.gov.gr/event/%ce%b1%cf%86%ce%b9%ce%ad%cf%81%cf%89%ce%bc%ce%b1-%cf%83%cf%84%ce%b7-%ce%bd%ce%b5%ce%bf%ce%b5%ce%bb%ce%bb%ce%b7%ce%bd%ce%b9%ce%ba%ce%ae-%cf%80%ce%bf%ce%af%ce%b7%cf%83%ce%b7-%cf%84%ce%ac%ce%ba%ce%b7-4-2/
LOCATION:Αττικής
CATEGORIES:Εκδηλώσεις,Λοιπές Εκδηλώσεις
END:VEVENT
BEGIN:VEVENT
DTSTART;TZID=Europe/Helsinki:20161128T190000
DTEND;TZID=Europe/Helsinki:20161128T220000
DTSTAMP:20260423T004948
CREATED:20180317T232503Z
LAST-MODIFIED:20180317T232503Z
UID:47557-1480359600-1480370400@petroupoli.gov.gr
SUMMARY:Αφιέρωμα στη νεοελληνική ποίηση - Τάκης Σινόπουλος
DESCRIPTION:Το 5ο ΓΕ.Λ. Πετρούπολης στο πλαίσιο των δραστηριοτήτων του δικτύου των σχολείων της UNESCO και του πολιτιστικού προγράμματος «Αφιέρωμα στη νεοελληνική ποίηση» σας προσκαλεί τη Δευτέρα 28 Νοεμβρίου 2016 στις 19.00 στο Πνευματικό Κέντρο του Δήμου Πετρούπολης (Μπουμπουλίνας & Αθ. Διάκου) σε εκδήλωση για τον ποιητή της μεταπολεμικής γενιάς Τάκη Σινόπουλο.Τον ποιητή θα παρουσιάσει και θα ανθολογήσει ο πρόεδρος του ιδρύματος  «Τάκης Σινόπουλος»
URL:https://petroupoli.gov.gr/event/%ce%b1%cf%86%ce%b9%ce%ad%cf%81%cf%89%ce%bc%ce%b1-%cf%83%cf%84%ce%b7-%ce%bd%ce%b5%ce%bf%ce%b5%ce%bb%ce%bb%ce%b7%ce%bd%ce%b9%ce%ba%ce%ae-%cf%80%ce%bf%ce%af%ce%b7%cf%83%ce%b7-%cf%84%ce%ac%ce%ba%ce%b7-4-3/
LOCATION:Αττικής
ATTACH;FMTTYPE=image/jpeg:https://petroupoli.gov.gr/wp-content/uploads/2018/04/featured-4-1.jpg
END:VEVENT
END:VCALENDAR