BEGIN:VCALENDAR
VERSION:2.0
PRODID:-//Δήμος Πετρούπολης - ECPv6.15.20//NONSGML v1.0//EN
CALSCALE:GREGORIAN
METHOD:PUBLISH
X-WR-CALNAME:Δήμος Πετρούπολης
X-ORIGINAL-URL:https://petroupoli.gov.gr
X-WR-CALDESC:Δήμος Πετρούπολης - Εκδηλώσεις
REFRESH-INTERVAL;VALUE=DURATION:PT1H
X-Robots-Tag:noindex
X-PUBLISHED-TTL:PT1H
BEGIN:VTIMEZONE
TZID:Europe/Helsinki
BEGIN:DAYLIGHT
TZOFFSETFROM:+0200
TZOFFSETTO:+0300
TZNAME:EEST
DTSTART:20150329T010000
END:DAYLIGHT
BEGIN:STANDARD
TZOFFSETFROM:+0300
TZOFFSETTO:+0200
TZNAME:EET
DTSTART:20151025T010000
END:STANDARD
BEGIN:DAYLIGHT
TZOFFSETFROM:+0200
TZOFFSETTO:+0300
TZNAME:EEST
DTSTART:20160327T010000
END:DAYLIGHT
BEGIN:STANDARD
TZOFFSETFROM:+0300
TZOFFSETTO:+0200
TZNAME:EET
DTSTART:20161030T010000
END:STANDARD
BEGIN:DAYLIGHT
TZOFFSETFROM:+0200
TZOFFSETTO:+0300
TZNAME:EEST
DTSTART:20170326T010000
END:DAYLIGHT
BEGIN:STANDARD
TZOFFSETFROM:+0300
TZOFFSETTO:+0200
TZNAME:EET
DTSTART:20171029T010000
END:STANDARD
END:VTIMEZONE
BEGIN:VEVENT
DTSTART;TZID=Europe/Helsinki:20161106T110000
DTEND;TZID=Europe/Helsinki:20161106T110000
DTSTAMP:20260423T073502
CREATED:20180317T212620Z
LAST-MODIFIED:20210116T235948Z
UID:31562-1478430000-1478430000@petroupoli.gov.gr
SUMMARY:5η Επίδειξη Ιαπωνικών Πολεμικών Τεχνών
DESCRIPTION:Η Πρεσβεία της Ιαπωνίας διοργανώνει για πέμπτη χρονιά Επίδειξη Ιαπωνικών Πολεμικών Τεχνών
URL:https://petroupoli.gov.gr/event/5%ce%b7-%ce%b5%cf%80%ce%af%ce%b4%ce%b5%ce%b9%ce%be%ce%b7-%ce%b9%ce%b1%cf%80%cf%89%ce%bd%ce%b9%ce%ba%cf%8e%ce%bd-%cf%80%ce%bf%ce%bb%ce%b5%ce%bc%ce%b9%ce%ba%cf%8e%ce%bd-%cf%84%ce%b5%cf%87%ce%bd%cf%8e-3/
LOCATION:Αττικής
CATEGORIES:Εκδηλώσεις
ATTACH;FMTTYPE=image/jpeg:https://petroupoli.gov.gr/wp-content/uploads/2018/04/featured-4.jpg
END:VEVENT
BEGIN:VEVENT
DTSTART;TZID=Europe/Helsinki:20161106T110000
DTEND;TZID=Europe/Helsinki:20161106T110000
DTSTAMP:20260423T073502
CREATED:20180317T232620Z
LAST-MODIFIED:20180317T232620Z
UID:47702-1478430000-1478430000@petroupoli.gov.gr
SUMMARY:5η Επίδειξη Ιαπωνικών Πολεμικών Τεχνών
DESCRIPTION:Η Πρεσβεία της Ιαπωνίας διοργανώνει για πέμπτη χρονιά Επίδειξη Ιαπωνικών Πολεμικών Τεχνών
URL:https://petroupoli.gov.gr/event/5%ce%b7-%ce%b5%cf%80%ce%af%ce%b4%ce%b5%ce%b9%ce%be%ce%b7-%ce%b9%ce%b1%cf%80%cf%89%ce%bd%ce%b9%ce%ba%cf%8e%ce%bd-%cf%80%ce%bf%ce%bb%ce%b5%ce%bc%ce%b9%ce%ba%cf%8e%ce%bd-%cf%84%ce%b5%cf%87%ce%bd%cf%8e-4/
LOCATION:Αττικής
CATEGORIES:Εκδηλώσεις,Αθλητικές Εκδηλώσεις
END:VEVENT
BEGIN:VEVENT
DTSTART;TZID=Europe/Helsinki:20161106T110000
DTEND;TZID=Europe/Helsinki:20161106T110000
DTSTAMP:20260423T073502
CREATED:20180317T232620Z
LAST-MODIFIED:20180317T232620Z
UID:47715-1478430000-1478430000@petroupoli.gov.gr
SUMMARY:5η Επίδειξη Ιαπωνικών Πολεμικών Τεχνών
DESCRIPTION:Η Πρεσβεία της Ιαπωνίας διοργανώνει για πέμπτη χρονιά Επίδειξη Ιαπωνικών Πολεμικών Τεχνών
URL:https://petroupoli.gov.gr/event/5%ce%b7-%ce%b5%cf%80%ce%af%ce%b4%ce%b5%ce%b9%ce%be%ce%b7-%ce%b9%ce%b1%cf%80%cf%89%ce%bd%ce%b9%ce%ba%cf%8e%ce%bd-%cf%80%ce%bf%ce%bb%ce%b5%ce%bc%ce%b9%ce%ba%cf%8e%ce%bd-%cf%84%ce%b5%cf%87%ce%bd%cf%8e-5/
LOCATION:Αττικής
ATTACH;FMTTYPE=image/jpeg:https://petroupoli.gov.gr/wp-content/uploads/2018/04/featured-4-1.jpg
END:VEVENT
BEGIN:VEVENT
DTSTART;TZID=Europe/Helsinki:20161106T200000
DTEND;TZID=Europe/Helsinki:20161106T220000
DTSTAMP:20260423T073502
CREATED:20180317T232213Z
LAST-MODIFIED:20180317T232213Z
UID:47228-1478462400-1478469600@petroupoli.gov.gr
SUMMARY:Ο Θείος Βάνιας του Άντον Τσέχωφ
DESCRIPTION:Στη Θεατρική Σκηνή της Ανώτερης Δραματικής Σχολής ΠΕΤΡΑΣ του Δήμου Πετρούποληςανεβαίνει ο Θείος Βάνιας του Άντον Τσέχωφ και θα παίζεται κάθε Κυριακή από τις 6/11/2016 έως 5/3/2017 στις 20:00 με ελεύθερη είσοδο.Κρατήσεις θέσεων: 210 5069870 – 6977771821.                Λίγα λόγια για τον ΘΕΙΟ ΒΑΝΙΑ  του ΆΝΤΟΝ ΤΣΕΧΩΦ και τη διανομή                  Το έργο του Τσέχωφ μοιάζει με το ανθρώπινο σώμα. Αυτονόητο και απλό στην εξωτερική του μορφή
URL:https://petroupoli.gov.gr/event/%ce%bf-%ce%b8%ce%b5%ce%af%ce%bf%cf%82-%ce%b2%ce%ac%ce%bd%ce%b9%ce%b1%cf%82-%cf%84%ce%bf%cf%85-%ce%ac%ce%bd%cf%84%ce%bf%ce%bd-%cf%84%cf%83%ce%ad%cf%87%cf%89%cf%86-2-2/
LOCATION:Αττικής
CATEGORIES:Εκδηλώσεις,Θέατρο
END:VEVENT
BEGIN:VEVENT
DTSTART;TZID=Europe/Helsinki:20161106T200000
DTEND;TZID=Europe/Helsinki:20161106T220000
DTSTAMP:20260423T073502
CREATED:20180317T232213Z
LAST-MODIFIED:20180317T232213Z
UID:47233-1478462400-1478469600@petroupoli.gov.gr
SUMMARY:Ο Θείος Βάνιας του Άντον Τσέχωφ
DESCRIPTION:Στη Θεατρική Σκηνή της Ανώτερης Δραματικής Σχολής ΠΕΤΡΑΣ του Δήμου Πετρούποληςανεβαίνει ο Θείος Βάνιας του Άντον Τσέχωφ και θα παίζεται κάθε Κυριακή από τις 6/11/2016 έως 5/3/2017 στις 20:00 με ελεύθερη είσοδο.Κρατήσεις θέσεων: 210 5069870 – 6977771821.                Λίγα λόγια για τον ΘΕΙΟ ΒΑΝΙΑ  του ΆΝΤΟΝ ΤΣΕΧΩΦ και τη διανομή                  Το έργο του Τσέχωφ μοιάζει με το ανθρώπινο σώμα. Αυτονόητο και απλό στην εξωτερική του μορφή
URL:https://petroupoli.gov.gr/event/%ce%bf-%ce%b8%ce%b5%ce%af%ce%bf%cf%82-%ce%b2%ce%ac%ce%bd%ce%b9%ce%b1%cf%82-%cf%84%ce%bf%cf%85-%ce%ac%ce%bd%cf%84%ce%bf%ce%bd-%cf%84%cf%83%ce%ad%cf%87%cf%89%cf%86-2-3/
LOCATION:Αττικής
ATTACH;FMTTYPE=image/jpeg:https://petroupoli.gov.gr/wp-content/uploads/2018/04/featured-4-1.jpg
END:VEVENT
END:VCALENDAR