BEGIN:VCALENDAR
VERSION:2.0
PRODID:-//Δήμος Πετρούπολης - ECPv6.15.20//NONSGML v1.0//EN
CALSCALE:GREGORIAN
METHOD:PUBLISH
X-WR-CALNAME:Δήμος Πετρούπολης
X-ORIGINAL-URL:https://petroupoli.gov.gr
X-WR-CALDESC:Δήμος Πετρούπολης - Εκδηλώσεις
REFRESH-INTERVAL;VALUE=DURATION:PT1H
X-Robots-Tag:noindex
X-PUBLISHED-TTL:PT1H
BEGIN:VTIMEZONE
TZID:Europe/Helsinki
BEGIN:DAYLIGHT
TZOFFSETFROM:+0200
TZOFFSETTO:+0300
TZNAME:EEST
DTSTART:20150329T010000
END:DAYLIGHT
BEGIN:STANDARD
TZOFFSETFROM:+0300
TZOFFSETTO:+0200
TZNAME:EET
DTSTART:20151025T010000
END:STANDARD
BEGIN:DAYLIGHT
TZOFFSETFROM:+0200
TZOFFSETTO:+0300
TZNAME:EEST
DTSTART:20160327T010000
END:DAYLIGHT
BEGIN:STANDARD
TZOFFSETFROM:+0300
TZOFFSETTO:+0200
TZNAME:EET
DTSTART:20161030T010000
END:STANDARD
BEGIN:DAYLIGHT
TZOFFSETFROM:+0200
TZOFFSETTO:+0300
TZNAME:EEST
DTSTART:20170326T010000
END:DAYLIGHT
BEGIN:STANDARD
TZOFFSETFROM:+0300
TZOFFSETTO:+0200
TZNAME:EET
DTSTART:20171029T010000
END:STANDARD
END:VTIMEZONE
BEGIN:VEVENT
DTSTART;TZID=Europe/Helsinki:20160610T213000
DTEND;TZID=Europe/Helsinki:20160611T000000
DTSTAMP:20260423T202014
CREATED:20180317T212146Z
LAST-MODIFIED:20210117T000140Z
UID:31571-1465594200-1465603200@petroupoli.gov.gr
SUMMARY:Εκδήλωση Συλλόγου Κρητών Πετρούπολης 10 και 11 Ιουνίου 2016
DESCRIPTION:
URL:https://petroupoli.gov.gr/event/%ce%b5%ce%ba%ce%b4%ce%ae%ce%bb%cf%89%cf%83%ce%b7-%cf%83%cf%85%ce%bb%ce%bb%cf%8c%ce%b3%ce%bf%cf%85-%ce%ba%cf%81%ce%b7%cf%84%cf%8e%ce%bd-%cf%80%ce%b5%cf%84%cf%81%ce%bf%cf%8d%cf%80%ce%bf%ce%bb%ce%b7/
LOCATION:Αττικής
CATEGORIES:Εκδηλώσεις
ATTACH;FMTTYPE=image/jpeg:https://petroupoli.gov.gr/wp-content/uploads/2018/04/featured-4.jpg
END:VEVENT
BEGIN:VEVENT
DTSTART;TZID=Europe/Helsinki:20160610T213000
DTEND;TZID=Europe/Helsinki:20160611T000000
DTSTAMP:20260423T202014
CREATED:20180317T232146Z
LAST-MODIFIED:20180317T232146Z
UID:47172-1465594200-1465603200@petroupoli.gov.gr
SUMMARY:Εκδήλωση Συλλόγου Κρητών Πετρούπολης 10 και 11 Ιουνίου 2016
DESCRIPTION:
URL:https://petroupoli.gov.gr/event/%ce%b5%ce%ba%ce%b4%ce%ae%ce%bb%cf%89%cf%83%ce%b7-%cf%83%cf%85%ce%bb%ce%bb%cf%8c%ce%b3%ce%bf%cf%85-%ce%ba%cf%81%ce%b7%cf%84%cf%8e%ce%bd-%cf%80%ce%b5%cf%84%cf%81%ce%bf%cf%8d%cf%80%ce%bf%ce%bb%ce%b7-3/
LOCATION:Αττικής
CATEGORIES:Εκδηλώσεις,Συναυλίες
END:VEVENT
BEGIN:VEVENT
DTSTART;TZID=Europe/Helsinki:20160610T213000
DTEND;TZID=Europe/Helsinki:20160611T000000
DTSTAMP:20260423T202014
CREATED:20180317T232146Z
LAST-MODIFIED:20180317T232146Z
UID:47196-1465594200-1465603200@petroupoli.gov.gr
SUMMARY:Εκδήλωση Συλλόγου Κρητών Πετρούπολης 10 και 11 Ιουνίου 2016
DESCRIPTION:
URL:https://petroupoli.gov.gr/event/%ce%b5%ce%ba%ce%b4%ce%ae%ce%bb%cf%89%cf%83%ce%b7-%cf%83%cf%85%ce%bb%ce%bb%cf%8c%ce%b3%ce%bf%cf%85-%ce%ba%cf%81%ce%b7%cf%84%cf%8e%ce%bd-%cf%80%ce%b5%cf%84%cf%81%ce%bf%cf%8d%cf%80%ce%bf%ce%bb%ce%b7-4/
LOCATION:Αττικής
ATTACH;FMTTYPE=image/jpeg:https://petroupoli.gov.gr/wp-content/uploads/2018/04/featured-4-1.jpg
END:VEVENT
END:VCALENDAR