BEGIN:VCALENDAR
VERSION:2.0
PRODID:-//Δήμος Πετρούπολης - ECPv6.15.20//NONSGML v1.0//EN
CALSCALE:GREGORIAN
METHOD:PUBLISH
X-WR-CALNAME:Δήμος Πετρούπολης
X-ORIGINAL-URL:https://petroupoli.gov.gr
X-WR-CALDESC:Δήμος Πετρούπολης - Εκδηλώσεις
REFRESH-INTERVAL;VALUE=DURATION:PT1H
X-Robots-Tag:noindex
X-PUBLISHED-TTL:PT1H
BEGIN:VTIMEZONE
TZID:Europe/Helsinki
BEGIN:DAYLIGHT
TZOFFSETFROM:+0200
TZOFFSETTO:+0300
TZNAME:EEST
DTSTART:20150329T010000
END:DAYLIGHT
BEGIN:STANDARD
TZOFFSETFROM:+0300
TZOFFSETTO:+0200
TZNAME:EET
DTSTART:20151025T010000
END:STANDARD
BEGIN:DAYLIGHT
TZOFFSETFROM:+0200
TZOFFSETTO:+0300
TZNAME:EEST
DTSTART:20160327T010000
END:DAYLIGHT
BEGIN:STANDARD
TZOFFSETFROM:+0300
TZOFFSETTO:+0200
TZNAME:EET
DTSTART:20161030T010000
END:STANDARD
BEGIN:DAYLIGHT
TZOFFSETFROM:+0200
TZOFFSETTO:+0300
TZNAME:EEST
DTSTART:20170326T010000
END:DAYLIGHT
BEGIN:STANDARD
TZOFFSETFROM:+0300
TZOFFSETTO:+0200
TZNAME:EET
DTSTART:20171029T010000
END:STANDARD
END:VTIMEZONE
BEGIN:VEVENT
DTSTART;TZID=Europe/Helsinki:20160603T200000
DTEND;TZID=Europe/Helsinki:20160603T200000
DTSTAMP:20260424T030357
CREATED:20180317T212453Z
LAST-MODIFIED:20210117T000140Z
UID:31379-1464984000-1464984000@petroupoli.gov.gr
SUMMARY:Ετήσια Έκθεση Φωτογραφίας
DESCRIPTION:Ετήσια Έκθεση Φωτογραφίας3 – 6 Ιουνίου
URL:https://petroupoli.gov.gr/event/%ce%b5%cf%84%ce%ae%cf%83%ce%b9%ce%b1-%ce%ad%ce%ba%ce%b8%ce%b5%cf%83%ce%b7-%cf%86%cf%89%cf%84%ce%bf%ce%b3%cf%81%ce%b1%cf%86%ce%af%ce%b1%cf%82-4/
LOCATION:Αττικής
CATEGORIES:Εκδηλώσεις
ATTACH;FMTTYPE=image/jpeg:https://petroupoli.gov.gr/wp-content/uploads/2018/04/featured-4.jpg
END:VEVENT
BEGIN:VEVENT
DTSTART;TZID=Europe/Helsinki:20160603T200000
DTEND;TZID=Europe/Helsinki:20160603T200000
DTSTAMP:20260424T030357
CREATED:20180317T232453Z
LAST-MODIFIED:20180317T232453Z
UID:47527-1464984000-1464984000@petroupoli.gov.gr
SUMMARY:Ετήσια Έκθεση Φωτογραφίας
DESCRIPTION:Ετήσια Έκθεση Φωτογραφίας3 – 6 Ιουνίου
URL:https://petroupoli.gov.gr/event/%ce%b5%cf%84%ce%ae%cf%83%ce%b9%ce%b1-%ce%ad%ce%ba%ce%b8%ce%b5%cf%83%ce%b7-%cf%86%cf%89%cf%84%ce%bf%ce%b3%cf%81%ce%b1%cf%86%ce%af%ce%b1%cf%82-4-2/
LOCATION:Αττικής
CATEGORIES:Εκδηλώσεις,Λοιπές Εκδηλώσεις
END:VEVENT
BEGIN:VEVENT
DTSTART;TZID=Europe/Helsinki:20160603T200000
DTEND;TZID=Europe/Helsinki:20160603T200000
DTSTAMP:20260424T030357
CREATED:20180317T232453Z
LAST-MODIFIED:20180317T232453Z
UID:47534-1464984000-1464984000@petroupoli.gov.gr
SUMMARY:Ετήσια Έκθεση Φωτογραφίας
DESCRIPTION:Ετήσια Έκθεση Φωτογραφίας3 – 6 Ιουνίου
URL:https://petroupoli.gov.gr/event/%ce%b5%cf%84%ce%ae%cf%83%ce%b9%ce%b1-%ce%ad%ce%ba%ce%b8%ce%b5%cf%83%ce%b7-%cf%86%cf%89%cf%84%ce%bf%ce%b3%cf%81%ce%b1%cf%86%ce%af%ce%b1%cf%82-4-3/
LOCATION:Αττικής
ATTACH;FMTTYPE=image/jpeg:https://petroupoli.gov.gr/wp-content/uploads/2018/04/featured-4-1.jpg
END:VEVENT
END:VCALENDAR