BEGIN:VCALENDAR
VERSION:2.0
PRODID:-//Δήμος Πετρούπολης - ECPv6.15.20//NONSGML v1.0//EN
CALSCALE:GREGORIAN
METHOD:PUBLISH
X-ORIGINAL-URL:https://petroupoli.gov.gr
X-WR-CALDESC:Δήμος Πετρούπολης - Εκδηλώσεις
REFRESH-INTERVAL;VALUE=DURATION:PT1H
X-Robots-Tag:noindex
X-PUBLISHED-TTL:PT1H
BEGIN:VTIMEZONE
TZID:Europe/Helsinki
BEGIN:DAYLIGHT
TZOFFSETFROM:+0200
TZOFFSETTO:+0300
TZNAME:EEST
DTSTART:20150329T010000
END:DAYLIGHT
BEGIN:STANDARD
TZOFFSETFROM:+0300
TZOFFSETTO:+0200
TZNAME:EET
DTSTART:20151025T010000
END:STANDARD
BEGIN:DAYLIGHT
TZOFFSETFROM:+0200
TZOFFSETTO:+0300
TZNAME:EEST
DTSTART:20160327T010000
END:DAYLIGHT
BEGIN:STANDARD
TZOFFSETFROM:+0300
TZOFFSETTO:+0200
TZNAME:EET
DTSTART:20161030T010000
END:STANDARD
BEGIN:DAYLIGHT
TZOFFSETFROM:+0200
TZOFFSETTO:+0300
TZNAME:EEST
DTSTART:20170326T010000
END:DAYLIGHT
BEGIN:STANDARD
TZOFFSETFROM:+0300
TZOFFSETTO:+0200
TZNAME:EET
DTSTART:20171029T010000
END:STANDARD
END:VTIMEZONE
BEGIN:VEVENT
DTSTART;TZID=Europe/Helsinki:20160130T210000
DTEND;TZID=Europe/Helsinki:20160402T233000
DTSTAMP:20260423T232050
CREATED:20180317T232219Z
LAST-MODIFIED:20180317T232219Z
UID:47246-1454187600-1459639800@petroupoli.gov.gr
SUMMARY:«Ο ΚΑΤΑΔΙΚΟΣ»
DESCRIPTION:Σάββατο 19/12 και κάθε Σάββατο έως και 27/2/2016Η Θεατρική Σκηνή της Ανώτερης Σχολής Δραματικής Τέχνης του Δήμου  Πετρούπολης ξεκινά με τη νέα θεατρική περίοδο τις ελεύθερες για το κοινό  προγραμματισμένες παραστάσεις της. \nΘεατρική Παράσταση «Ο κατάδικος» του Κων/νου Θεοτόκηαπό τους σπουδαστές και τους αποφοίτους της Δραματικής Σχολής ΠέτραςΘεατρική Διασκευή: Σοφία ΑδαμίδουΣκηνοθεσία: Μίλτος Δημουλής
URL:https://petroupoli.gov.gr/event/%ce%bf-%ce%ba%ce%b1%cf%84%ce%b1%ce%b4%ce%b9%ce%ba%ce%bf%cf%83-5/
LOCATION:Αττικής
CATEGORIES:Εκδηλώσεις,Θέατρο
END:VEVENT
BEGIN:VEVENT
DTSTART;TZID=Europe/Helsinki:20160130T210000
DTEND;TZID=Europe/Helsinki:20160402T233000
DTSTAMP:20260423T232050
CREATED:20180317T232219Z
LAST-MODIFIED:20180317T232219Z
UID:47260-1454187600-1459639800@petroupoli.gov.gr
SUMMARY:«Ο ΚΑΤΑΔΙΚΟΣ»
DESCRIPTION:Σάββατο 19/12 και κάθε Σάββατο έως και 27/2/2016Η Θεατρική Σκηνή της Ανώτερης Σχολής Δραματικής Τέχνης του Δήμου  Πετρούπολης ξεκινά με τη νέα θεατρική περίοδο τις ελεύθερες για το κοινό  προγραμματισμένες παραστάσεις της. \nΘεατρική Παράσταση «Ο κατάδικος» του Κων/νου Θεοτόκηαπό τους σπουδαστές και τους αποφοίτους της Δραματικής Σχολής ΠέτραςΘεατρική Διασκευή: Σοφία ΑδαμίδουΣκηνοθεσία: Μίλτος Δημουλής
URL:https://petroupoli.gov.gr/event/%ce%bf-%ce%ba%ce%b1%cf%84%ce%b1%ce%b4%ce%b9%ce%ba%ce%bf%cf%83-5-2/
LOCATION:Αττικής
ATTACH;FMTTYPE=image/jpeg:https://petroupoli.gov.gr/wp-content/uploads/2018/04/featured-4-1.jpg
END:VEVENT
BEGIN:VEVENT
DTSTART;TZID=Europe/Helsinki:20160206T210000
DTEND;TZID=Europe/Helsinki:20160409T233000
DTSTAMP:20260423T232050
CREATED:20180317T232219Z
LAST-MODIFIED:20180317T232219Z
UID:47245-1454792400-1460244600@petroupoli.gov.gr
SUMMARY:«Ο ΚΑΤΑΔΙΚΟΣ»
DESCRIPTION:Σάββατο 19/12 και κάθε Σάββατο έως και 27/2/2016Η Θεατρική Σκηνή της Ανώτερης Σχολής Δραματικής Τέχνης του Δήμου  Πετρούπολης ξεκινά με τη νέα θεατρική περίοδο τις ελεύθερες για το κοινό  προγραμματισμένες παραστάσεις της. \nΘεατρική Παράσταση «Ο κατάδικος» του Κων/νου Θεοτόκηαπό τους σπουδαστές και τους αποφοίτους της Δραματικής Σχολής ΠέτραςΘεατρική Διασκευή: Σοφία ΑδαμίδουΣκηνοθεσία: Μίλτος Δημουλής
URL:https://petroupoli.gov.gr/event/%ce%bf-%ce%ba%ce%b1%cf%84%ce%b1%ce%b4%ce%b9%ce%ba%ce%bf%cf%83-4/
LOCATION:Αττικής
CATEGORIES:Εκδηλώσεις,Θέατρο
END:VEVENT
BEGIN:VEVENT
DTSTART;TZID=Europe/Helsinki:20160206T210000
DTEND;TZID=Europe/Helsinki:20160409T233000
DTSTAMP:20260423T232050
CREATED:20180317T232219Z
LAST-MODIFIED:20180317T232219Z
UID:47259-1454792400-1460244600@petroupoli.gov.gr
SUMMARY:«Ο ΚΑΤΑΔΙΚΟΣ»
DESCRIPTION:Σάββατο 19/12 και κάθε Σάββατο έως και 27/2/2016Η Θεατρική Σκηνή της Ανώτερης Σχολής Δραματικής Τέχνης του Δήμου  Πετρούπολης ξεκινά με τη νέα θεατρική περίοδο τις ελεύθερες για το κοινό  προγραμματισμένες παραστάσεις της. \nΘεατρική Παράσταση «Ο κατάδικος» του Κων/νου Θεοτόκηαπό τους σπουδαστές και τους αποφοίτους της Δραματικής Σχολής ΠέτραςΘεατρική Διασκευή: Σοφία ΑδαμίδουΣκηνοθεσία: Μίλτος Δημουλής
URL:https://petroupoli.gov.gr/event/%ce%bf-%ce%ba%ce%b1%cf%84%ce%b1%ce%b4%ce%b9%ce%ba%ce%bf%cf%83-4-2/
LOCATION:Αττικής
ATTACH;FMTTYPE=image/jpeg:https://petroupoli.gov.gr/wp-content/uploads/2018/04/featured-4-1.jpg
END:VEVENT
BEGIN:VEVENT
DTSTART;TZID=Europe/Helsinki:20160213T210000
DTEND;TZID=Europe/Helsinki:20160416T233000
DTSTAMP:20260423T232050
CREATED:20180317T232219Z
LAST-MODIFIED:20180317T232219Z
UID:47244-1455397200-1460849400@petroupoli.gov.gr
SUMMARY:«Ο ΚΑΤΑΔΙΚΟΣ»
DESCRIPTION:Σάββατο 19/12 και κάθε Σάββατο έως και 27/2/2016Η Θεατρική Σκηνή της Ανώτερης Σχολής Δραματικής Τέχνης του Δήμου  Πετρούπολης ξεκινά με τη νέα θεατρική περίοδο τις ελεύθερες για το κοινό  προγραμματισμένες παραστάσεις της. \nΘεατρική Παράσταση «Ο κατάδικος» του Κων/νου Θεοτόκηαπό τους σπουδαστές και τους αποφοίτους της Δραματικής Σχολής ΠέτραςΘεατρική Διασκευή: Σοφία ΑδαμίδουΣκηνοθεσία: Μίλτος Δημουλής
URL:https://petroupoli.gov.gr/event/%ce%bf-%ce%ba%ce%b1%cf%84%ce%b1%ce%b4%ce%b9%ce%ba%ce%bf%cf%83-3/
LOCATION:Αττικής
CATEGORIES:Εκδηλώσεις,Θέατρο
END:VEVENT
BEGIN:VEVENT
DTSTART;TZID=Europe/Helsinki:20160213T210000
DTEND;TZID=Europe/Helsinki:20160416T233000
DTSTAMP:20260423T232050
CREATED:20180317T232219Z
LAST-MODIFIED:20180317T232219Z
UID:47258-1455397200-1460849400@petroupoli.gov.gr
SUMMARY:«Ο ΚΑΤΑΔΙΚΟΣ»
DESCRIPTION:Σάββατο 19/12 και κάθε Σάββατο έως και 27/2/2016Η Θεατρική Σκηνή της Ανώτερης Σχολής Δραματικής Τέχνης του Δήμου  Πετρούπολης ξεκινά με τη νέα θεατρική περίοδο τις ελεύθερες για το κοινό  προγραμματισμένες παραστάσεις της. \nΘεατρική Παράσταση «Ο κατάδικος» του Κων/νου Θεοτόκηαπό τους σπουδαστές και τους αποφοίτους της Δραματικής Σχολής ΠέτραςΘεατρική Διασκευή: Σοφία ΑδαμίδουΣκηνοθεσία: Μίλτος Δημουλής
URL:https://petroupoli.gov.gr/event/%ce%bf-%ce%ba%ce%b1%cf%84%ce%b1%ce%b4%ce%b9%ce%ba%ce%bf%cf%83-3-2/
LOCATION:Αττικής
ATTACH;FMTTYPE=image/jpeg:https://petroupoli.gov.gr/wp-content/uploads/2018/04/featured-4-1.jpg
END:VEVENT
BEGIN:VEVENT
DTSTART;TZID=Europe/Helsinki:20160220T210000
DTEND;TZID=Europe/Helsinki:20160423T233000
DTSTAMP:20260423T232050
CREATED:20180317T232218Z
LAST-MODIFIED:20180317T232218Z
UID:47243-1456002000-1461454200@petroupoli.gov.gr
SUMMARY:«Ο ΚΑΤΑΔΙΚΟΣ»
DESCRIPTION:Σάββατο 19/12 και κάθε Σάββατο έως και 27/2/2016Η Θεατρική Σκηνή της Ανώτερης Σχολής Δραματικής Τέχνης του Δήμου  Πετρούπολης ξεκινά με τη νέα θεατρική περίοδο τις ελεύθερες για το κοινό  προγραμματισμένες παραστάσεις της. \nΘεατρική Παράσταση «Ο κατάδικος» του Κων/νου Θεοτόκηαπό τους σπουδαστές και τους αποφοίτους της Δραματικής Σχολής ΠέτραςΘεατρική Διασκευή: Σοφία ΑδαμίδουΣκηνοθεσία: Μίλτος Δημουλής
URL:https://petroupoli.gov.gr/event/%ce%bf-%ce%ba%ce%b1%cf%84%ce%b1%ce%b4%ce%b9%ce%ba%ce%bf%cf%83-2/
LOCATION:Αττικής
CATEGORIES:Εκδηλώσεις,Θέατρο
END:VEVENT
BEGIN:VEVENT
DTSTART;TZID=Europe/Helsinki:20160220T210000
DTEND;TZID=Europe/Helsinki:20160423T233000
DTSTAMP:20260423T232050
CREATED:20180317T232218Z
LAST-MODIFIED:20180317T232218Z
UID:47257-1456002000-1461454200@petroupoli.gov.gr
SUMMARY:«Ο ΚΑΤΑΔΙΚΟΣ»
DESCRIPTION:Σάββατο 19/12 και κάθε Σάββατο έως και 27/2/2016Η Θεατρική Σκηνή της Ανώτερης Σχολής Δραματικής Τέχνης του Δήμου  Πετρούπολης ξεκινά με τη νέα θεατρική περίοδο τις ελεύθερες για το κοινό  προγραμματισμένες παραστάσεις της. \nΘεατρική Παράσταση «Ο κατάδικος» του Κων/νου Θεοτόκηαπό τους σπουδαστές και τους αποφοίτους της Δραματικής Σχολής ΠέτραςΘεατρική Διασκευή: Σοφία ΑδαμίδουΣκηνοθεσία: Μίλτος Δημουλής
URL:https://petroupoli.gov.gr/event/%ce%bf-%ce%ba%ce%b1%cf%84%ce%b1%ce%b4%ce%b9%ce%ba%ce%bf%cf%83-2-2/
LOCATION:Αττικής
ATTACH;FMTTYPE=image/jpeg:https://petroupoli.gov.gr/wp-content/uploads/2018/04/featured-4-1.jpg
END:VEVENT
BEGIN:VEVENT
DTSTART;TZID=Europe/Helsinki:20160227T210000
DTEND;TZID=Europe/Helsinki:20160430T233000
DTSTAMP:20260423T232050
CREATED:20180317T232215Z
LAST-MODIFIED:20180317T232215Z
UID:47242-1456606800-1462059000@petroupoli.gov.gr
SUMMARY:«Ο ΚΑΤΑΔΙΚΟΣ»
DESCRIPTION:Σάββατο 19/12 και κάθε Σάββατο έως και 27/2/2016Η Θεατρική Σκηνή της Ανώτερης Σχολής Δραματικής Τέχνης του Δήμου  Πετρούπολης ξεκινά με τη νέα θεατρική περίοδο τις ελεύθερες για το κοινό  προγραμματισμένες παραστάσεις της. \nΘεατρική Παράσταση «Ο κατάδικος» του Κων/νου Θεοτόκηαπό τους σπουδαστές και τους αποφοίτους της Δραματικής Σχολής ΠέτραςΘεατρική Διασκευή: Σοφία ΑδαμίδουΣκηνοθεσία: Μίλτος Δημουλής
URL:https://petroupoli.gov.gr/event/%ce%bf-%ce%ba%ce%b1%cf%84%ce%b1%ce%b4%ce%b9%ce%ba%ce%bf%cf%83/
LOCATION:Αττικής
CATEGORIES:Εκδηλώσεις,Θέατρο
END:VEVENT
BEGIN:VEVENT
DTSTART;TZID=Europe/Helsinki:20160227T210000
DTEND;TZID=Europe/Helsinki:20160430T233000
DTSTAMP:20260423T232050
CREATED:20180317T232215Z
LAST-MODIFIED:20180317T232215Z
UID:47256-1456606800-1462059000@petroupoli.gov.gr
SUMMARY:«Ο ΚΑΤΑΔΙΚΟΣ»
DESCRIPTION:Σάββατο 19/12 και κάθε Σάββατο έως και 27/2/2016Η Θεατρική Σκηνή της Ανώτερης Σχολής Δραματικής Τέχνης του Δήμου  Πετρούπολης ξεκινά με τη νέα θεατρική περίοδο τις ελεύθερες για το κοινό  προγραμματισμένες παραστάσεις της. \nΘεατρική Παράσταση «Ο κατάδικος» του Κων/νου Θεοτόκηαπό τους σπουδαστές και τους αποφοίτους της Δραματικής Σχολής ΠέτραςΘεατρική Διασκευή: Σοφία ΑδαμίδουΣκηνοθεσία: Μίλτος Δημουλής
URL:https://petroupoli.gov.gr/event/%ce%bf-%ce%ba%ce%b1%cf%84%ce%b1%ce%b4%ce%b9%ce%ba%ce%bf%cf%83-21/
LOCATION:Αττικής
ATTACH;FMTTYPE=image/jpeg:https://petroupoli.gov.gr/wp-content/uploads/2018/04/featured-4-1.jpg
END:VEVENT
BEGIN:VEVENT
DTSTART;TZID=Europe/Helsinki:20160402T170000
DTEND;TZID=Europe/Helsinki:20160402T190000
DTSTAMP:20260423T232050
CREATED:20180317T212547Z
LAST-MODIFIED:20210117T003504Z
UID:31576-1459616400-1459623600@petroupoli.gov.gr
SUMMARY:Ο ΚΙΤΡΙΝΟΜΥΤΗΣ
DESCRIPTION:Yellowbird. Κινούμενα Σχέδια
URL:https://petroupoli.gov.gr/event/%ce%bf-%ce%ba%ce%b9%cf%84%cf%81%ce%b9%ce%bd%ce%bf%ce%bc%cf%85%cf%84%ce%b7%cf%83-4/
LOCATION:Αττικής
CATEGORIES:Εκδηλώσεις
ATTACH;FMTTYPE=image/jpeg:https://petroupoli.gov.gr/wp-content/uploads/2018/04/featured-4.jpg
END:VEVENT
BEGIN:VEVENT
DTSTART;TZID=Europe/Helsinki:20160402T170000
DTEND;TZID=Europe/Helsinki:20160402T190000
DTSTAMP:20260423T232050
CREATED:20180317T232547Z
LAST-MODIFIED:20180317T232547Z
UID:47627-1459616400-1459623600@petroupoli.gov.gr
SUMMARY:Ο ΚΙΤΡΙΝΟΜΥΤΗΣ
DESCRIPTION:Yellowbird. Κινούμενα Σχέδια
URL:https://petroupoli.gov.gr/event/%ce%bf-%ce%ba%ce%b9%cf%84%cf%81%ce%b9%ce%bd%ce%bf%ce%bc%cf%85%cf%84%ce%b7%cf%83-4-3/
LOCATION:Αττικής
CATEGORIES:Εκδηλώσεις,Κινηματογράφος
END:VEVENT
BEGIN:VEVENT
DTSTART;TZID=Europe/Helsinki:20160402T170000
DTEND;TZID=Europe/Helsinki:20160402T190000
DTSTAMP:20260423T232050
CREATED:20180317T232547Z
LAST-MODIFIED:20180317T232547Z
UID:47636-1459616400-1459623600@petroupoli.gov.gr
SUMMARY:Ο ΚΙΤΡΙΝΟΜΥΤΗΣ
DESCRIPTION:Yellowbird. Κινούμενα Σχέδια
URL:https://petroupoli.gov.gr/event/%ce%bf-%ce%ba%ce%b9%cf%84%cf%81%ce%b9%ce%bd%ce%bf%ce%bc%cf%85%cf%84%ce%b7%cf%83-4-4/
LOCATION:Αττικής
ATTACH;FMTTYPE=image/jpeg:https://petroupoli.gov.gr/wp-content/uploads/2018/04/featured-4-1.jpg
END:VEVENT
END:VCALENDAR